BEGIN:VCALENDAR
VERSION:2.0
PRODID:-//Vakarų Vėjai - ECPv6.15.3//NONSGML v1.0//EN
CALSCALE:GREGORIAN
METHOD:PUBLISH
X-WR-CALNAME:Vakarų Vėjai
X-ORIGINAL-URL:https://vakaruvejai.com
X-WR-CALDESC:Vakarų Vėjai renginiai
REFRESH-INTERVAL;VALUE=DURATION:PT1H
X-Robots-Tag:noindex
X-PUBLISHED-TTL:PT1H
BEGIN:VTIMEZONE
TZID:America/Los_Angeles
BEGIN:DAYLIGHT
TZOFFSETFROM:-0800
TZOFFSETTO:-0700
TZNAME:PDT
DTSTART:20200308T100000
END:DAYLIGHT
BEGIN:STANDARD
TZOFFSETFROM:-0700
TZOFFSETTO:-0800
TZNAME:PST
DTSTART:20201101T090000
END:STANDARD
END:VTIMEZONE
BEGIN:VEVENT
DTSTART;TZID=America/Los_Angeles:20200301T140000
DTEND;TZID=America/Los_Angeles:20200301T170000
DTSTAMP:20260423T163025
CREATED:20200220T074137Z
LAST-MODIFIED:20200228T184819Z
UID:11465-1583071200-1583082000@vakaruvejai.com
SUMMARY:Šv. Kazimiero diena ir kun. T. Karanausko gimtadienis
DESCRIPTION:Laukia didelė šventė ir dvi gražios progos džiaugtis! Kovo 1 d. 11 val. susitikime šv. Mišiose\, o 2 val. popiet. klebonijos kiemelyje švęsime šv. Kazimiero dieną ir kun. T. Karanausko gimtadienį. \nVisi atsineškime savo patiekalą/užkandį\, kuriuo dalinsimės su susirinkusiais svečiais. Patiekalą/užkandį suderinkite su Zita Orfanos.
URL:https://vakaruvejai.com/renginys/st-casimir-day-celebration-los-angeles/
LOCATION:Rectory Gardens\, 2718 St. George St\, Los Angeles\, CA\, 90027\, Jungtinės Amerikos Valstijos
CATEGORIES:Lietuviški renginiai,Los Andželas
ATTACH;FMTTYPE=image/jpeg:https://vakaruvejai.com/wp-content/uploads/2020/02/IMG_9785.jpg
ORGANIZER;CN="%C5%A1v. Kazimiero parapija":MAILTO:st.casimir@gmail.com
END:VEVENT
END:VCALENDAR