BEGIN:VCALENDAR
VERSION:2.0
PRODID:-//Vakarų Vėjai - ECPv6.15.3//NONSGML v1.0//EN
CALSCALE:GREGORIAN
METHOD:PUBLISH
X-WR-CALNAME:Vakarų Vėjai
X-ORIGINAL-URL:https://vakaruvejai.com
X-WR-CALDESC:Vakarų Vėjai renginiai
REFRESH-INTERVAL;VALUE=DURATION:PT1H
X-Robots-Tag:noindex
X-PUBLISHED-TTL:PT1H
BEGIN:VTIMEZONE
TZID:America/Los_Angeles
BEGIN:DAYLIGHT
TZOFFSETFROM:-0800
TZOFFSETTO:-0700
TZNAME:PDT
DTSTART:20220313T100000
END:DAYLIGHT
BEGIN:STANDARD
TZOFFSETFROM:-0700
TZOFFSETTO:-0800
TZNAME:PST
DTSTART:20221106T090000
END:STANDARD
BEGIN:DAYLIGHT
TZOFFSETFROM:-0800
TZOFFSETTO:-0700
TZNAME:PDT
DTSTART:20230312T100000
END:DAYLIGHT
BEGIN:STANDARD
TZOFFSETFROM:-0700
TZOFFSETTO:-0800
TZNAME:PST
DTSTART:20231105T090000
END:STANDARD
BEGIN:DAYLIGHT
TZOFFSETFROM:-0800
TZOFFSETTO:-0700
TZNAME:PDT
DTSTART:20240310T100000
END:DAYLIGHT
BEGIN:STANDARD
TZOFFSETFROM:-0700
TZOFFSETTO:-0800
TZNAME:PST
DTSTART:20241103T090000
END:STANDARD
END:VTIMEZONE
BEGIN:VEVENT
DTSTART;TZID=America/Los_Angeles:20240224T130000
DTEND;TZID=America/Los_Angeles:20240224T150000
DTSTAMP:20260423T161833
CREATED:20240210T060202Z
LAST-MODIFIED:20240210T060352Z
UID:26054-1708779600-1708786800@vakaruvejai.com
SUMMARY:Remembrance Rally: Second Year of Ruzzia's Full Scale War in Ukraine\, Los Andželas
DESCRIPTION:At the outset of the ruzzian full-scale invasion\, the world granted Ukraine only three days. But today\, as we approach the second year of Ukraine’s valorous fight for Freedom the call for action resounds.\nStand with Ukraine in support of its pursuit of Victory! Join the global movement to solemnly commemorate the ongoing ruzzian genocidal war against the Ukrainian people.\nAmbassadors\, diplomatic officials\, congress representatives\, Ukrainian musicians\, artists\, and activists will come together to advocate for justice and a peaceful future. Raise your voice with Ukrainian flags\, powerful anti-war posters\, and attire adorned with Ukrainian symbols.\n\nWhen? February 24 @ 1:00pm\nWhere? LA City Hall: 200 N Spring St\, Los Angeles\, CA 90012\n\nLet us declare together: Glory to Ukraine! Glory to Heroes! – СЛАВА УКРАІНІ! ГЕРОЯМ СЛАВА!
URL:https://vakaruvejai.com/renginys/remembrance-rally-second-year-of-ruzzias-full-scale-war-in-ukraine-los-andzelas/
LOCATION:LA City Hall\, 200 N Spring St\, Los Angeles\, CA\, 90012
CATEGORIES:Los Andželas
ATTACH;FMTTYPE=image/jpeg:https://vakaruvejai.com/wp-content/uploads/2024/02/420854485_369289315837396_4633167616311238482_n.jpeg
END:VEVENT
BEGIN:VEVENT
DTSTART;TZID=America/Los_Angeles:20220609T190000
DTEND;TZID=America/Los_Angeles:20220609T210000
DTSTAMP:20260423T161833
CREATED:20220603T192556Z
LAST-MODIFIED:20220603T192556Z
UID:21627-1654801200-1654808400@vakaruvejai.com
SUMMARY:Manto Kvedaravičiaus atminimui filmo Mariupol peržiūra\, Los Andželas
DESCRIPTION:LT \nLietuvos generalinio konsulato Los Andžele komanda kartu su Lithuanian American Business Association in LA\, Lithuanian World Arts Council\, Ukraine Cultural Centre ir Stand with Ukraine Foundation in LA kviečia į dokumentinio filmo „Mariupolis“ (2016) pristatymą. Šio filmo kūrėjas Lietuvos kino režisierius\, kultūros antropologas Mantas Kvederavičius šių metų kovą buvo nužudytas Ukrainoje. \nKur: Ukrainos kultūros centre Los Andžele\nKada: ketvirtadienį\, birželio 9 d. 7 PM \nFilmo anonsas: https://vimeo.com/250430543 \nEN \nConsulate General of Lithuania in Los Angeles\, Lithuanian American Business Association in LA\, the Lithuanian World Arts Council\, the Ukrainian Cultural Center and the Stand with Ukraine Foundation in LA kindly invite you to the screening of a documentary „Mariupol” (2016) by Lithuanian film director\, cultural anthropologist Mantas Kvedaravičius killed in Ukraine in March 2022. \nWhere: The Ukrainian Cultural Center in Los Angeles\nWhen: Thursday\, June 9\, 2022 at 7 PM \nFilm trailer: https://vimeo.com/250430543
URL:https://vakaruvejai.com/renginys/manto-kvedaraviciaus-atminimui-filmo-mariupol-perziura-los-andzelas/
LOCATION:Ukrainos Kultūros Centre Los Andžele\, 4315 Melrose Ave\, Los Angeles\, CA\, 90029
CATEGORIES:Los Andželas
ATTACH;FMTTYPE=image/jpeg:https://vakaruvejai.com/wp-content/uploads/2022/06/283860881_5223462634401561_4608962539018030236_n.jpg
END:VEVENT
END:VCALENDAR