BEGIN:VCALENDAR
VERSION:2.0
PRODID:-//Vakarų Vėjai - ECPv6.15.3//NONSGML v1.0//EN
CALSCALE:GREGORIAN
METHOD:PUBLISH
X-WR-CALNAME:Vakarų Vėjai
X-ORIGINAL-URL:https://vakaruvejai.com
X-WR-CALDESC:Vakarų Vėjai renginiai
REFRESH-INTERVAL;VALUE=DURATION:PT1H
X-Robots-Tag:noindex
X-PUBLISHED-TTL:PT1H
BEGIN:VTIMEZONE
TZID:America/Los_Angeles
BEGIN:DAYLIGHT
TZOFFSETFROM:-0800
TZOFFSETTO:-0700
TZNAME:PDT
DTSTART:20250309T100000
END:DAYLIGHT
BEGIN:STANDARD
TZOFFSETFROM:-0700
TZOFFSETTO:-0800
TZNAME:PST
DTSTART:20251102T090000
END:STANDARD
END:VTIMEZONE
BEGIN:VEVENT
DTSTART;TZID=America/Los_Angeles:20250426T100000
DTEND;TZID=America/Los_Angeles:20250426T110000
DTSTAMP:20260423T160107
CREATED:20250329T064105Z
LAST-MODIFIED:20250329T064105Z
UID:28850-1745661600-1745665200@vakaruvejai.com
SUMMARY:Norite studijuoti Lietuvoje? Kviečiame į virtualų renginį su „Study in Lithuania“ komanda\, Virtualus renginys
DESCRIPTION:Ar kada nors svarstėte apie studijas Lietuvoje? Kviečiame lietuvių jaunimą ir jų tėvus JAV į virtualų „Study in Lithuania“ pristatymą\, kur sužinosite apie aukštojo mokslo galimybes Lietuvoje!\n\n\nData: Šeštadienis\, balandžio 26 d.\n\n\nLaikas:\n\n\n• 20:00 Vilniaus (EET)\n\n\n• 1:00 PM Niujorko (EDT)\n\n\n• 12:00 PM Čikagos (CDT)\n\n\n• 11:00 AM Denverio (MDT)\n\n\n• 10:00 AM Los Andželo (PDT)\n\n\nVisą renginio informaciją ir registraciją rasite čia: https://studyin.lt/study-in-lithuania-pristatymas-jav/\n\n\nVieta: ZOOM platforma https://us06web.zoom.us/j/82023948090\n\n\nMeeting ID: 820 2394 8090\n\n\nRenginio kalba: Lietuvių\n\n\nTurėsite progą tiesiogiai užduoti rūpimus klausimus!\n\n\n„Study in Lithuania“ komanda laukia jūsų!\n\n\nStudijos Lietuvoje – tai puiki proga atkurti ryšį su lietuviška kultūra\, įgyti tarptautinį išsilavinimą ir pasinaudoti studijų mainų galimybėmis Europoje!
URL:https://vakaruvejai.com/renginys/norite-studijuoti-lietuvoje-kvieciame-i-virtualu-rengini-su-study-in-lithuania-komanda-virtualus-renginys/
LOCATION:Virtualus renginys
CATEGORIES:Lietuviški renginiai,Virtualus renginys
ATTACH;FMTTYPE=image/jpeg:https://vakaruvejai.com/wp-content/uploads/2025/03/487491425_10160782476086493_4614801447316250967_n.jpeg
END:VEVENT
END:VCALENDAR