BEGIN:VCALENDAR
VERSION:2.0
PRODID:-//Vakarų Vėjai - ECPv6.15.3//NONSGML v1.0//EN
CALSCALE:GREGORIAN
METHOD:PUBLISH
X-WR-CALNAME:Vakarų Vėjai
X-ORIGINAL-URL:https://vakaruvejai.com
X-WR-CALDESC:Vakarų Vėjai renginiai
REFRESH-INTERVAL;VALUE=DURATION:PT1H
X-Robots-Tag:noindex
X-PUBLISHED-TTL:PT1H
BEGIN:VTIMEZONE
TZID:America/Los_Angeles
BEGIN:DAYLIGHT
TZOFFSETFROM:-0800
TZOFFSETTO:-0700
TZNAME:PDT
DTSTART:20240310T100000
END:DAYLIGHT
BEGIN:STANDARD
TZOFFSETFROM:-0700
TZOFFSETTO:-0800
TZNAME:PST
DTSTART:20241103T090000
END:STANDARD
BEGIN:DAYLIGHT
TZOFFSETFROM:-0800
TZOFFSETTO:-0700
TZNAME:PDT
DTSTART:20250309T100000
END:DAYLIGHT
BEGIN:STANDARD
TZOFFSETFROM:-0700
TZOFFSETTO:-0800
TZNAME:PST
DTSTART:20251102T090000
END:STANDARD
END:VTIMEZONE
BEGIN:VEVENT
DTSTART;TZID=America/Los_Angeles:20251005T110000
DTEND;TZID=America/Los_Angeles:20251005T130000
DTSTAMP:20260423T143812
CREATED:20250927T072414Z
LAST-MODIFIED:20250927T072414Z
UID:29776-1759662000-1759669200@vakaruvejai.com
SUMMARY:Susitikimas su naujuoju LR ambasadoriumi JAV - Gediminu Varvuoliu! Los Andželas
DESCRIPTION:Kviečiame į susitikimą su naujuoju Lietuvos Respublikos ambasadoriumi Jungtinėse Amerikos Valstijose – Gediminu Varvuoliu!\nKada? Spalio 5 d. (sekmadienį)\n\n\nKur? Šv. Kazimiero parapijos bažnyčia (2718 St George St\, Los Angeles\, CA 90027)\nPrograma:\n11:00 – Mišios lietuvių kalba\n12:00 – Susitikimas su ambasadoriumi vyks bažnyčios viduje – iškart po mišių!\nAteikite susipažinti su ambasadoriumi Gediminu Varvuoliu\, pabendrauti ir drauge sustiprinti mūsų lietuvišką bendruomenę JAV!
URL:https://vakaruvejai.com/renginys/susitikimas-su-naujuoju-lr-ambasadoriumi-jav-gediminu-varvuoliu-los-andzelas/
LOCATION:Šv. Kazimiero parapija\, 2716 St. George St.\, Los Angeles\, CA\, 90027
CATEGORIES:Lietuviški renginiai,Los Andželas
ATTACH;FMTTYPE=image/jpeg:https://vakaruvejai.com/wp-content/uploads/2025/09/553226425_1215186737317969_4154486801607562306_n.jpeg
END:VEVENT
BEGIN:VEVENT
DTSTART;TZID=America/Los_Angeles:20240428T120000
DTEND;TZID=America/Los_Angeles:20240428T140000
DTSTAMP:20260423T143812
CREATED:20240419T061639Z
LAST-MODIFIED:20240419T061639Z
UID:26544-1714305600-1714312800@vakaruvejai.com
SUMMARY:Lietuvos Dukterys LA kviečia visus į informacinę popietę\, Los Andželas
DESCRIPTION:Lietuvos Dukterys maloniai kviečia visus į šv. Mišias ir informacinę popietę su Lietuvos Dukterimis LA. Sužinosite apie nuveiktus ir būsimus darbus\, šios organizacijos svarbą ir paramą. Visi labai laukiami. Iki susitikimo balandžio 28d. šv. Kazimiero parapijos apatinėje salėje.
URL:https://vakaruvejai.com/renginys/lietuvos-dukterys-la-kviecia-visus-i-informacine-popiete-los-andzelas/
LOCATION:Šv. Kazimiero parapija\, 2716 St. George St.\, Los Angeles\, CA\, 90027
CATEGORIES:Lietuviški renginiai,Los Andželas
ATTACH;FMTTYPE=image/png:https://vakaruvejai.com/wp-content/uploads/2024/04/Screen-Shot-2024-04-18-at-11.09.32-PM.png
END:VEVENT
BEGIN:VEVENT
DTSTART;TZID=America/Los_Angeles:20240421T124500
DTEND;TZID=America/Los_Angeles:20240421T134500
DTSTAMP:20260423T143812
CREATED:20240419T053350Z
LAST-MODIFIED:20240420T104347Z
UID:26538-1713703500-1713707100@vakaruvejai.com
SUMMARY:Susitikimas su seimo nariu Žygimantu Pavilioniu\, Los Andželas
DESCRIPTION:Primename\, kad jau šį sekmadienį (balandžio 21 d.) 12:45 p.m. kartu su Los Angeles Lithuanian Community / Los Angeles JAV Lietuvių Bendruomenė kviečiame į susitikimą su LR Seimo nariu\, Seimo užsienio reikalų komiteto pirmininku\, Lietuvos ambasadoriumi JAV 2010-2015 m.\, Žygimantu Pavilioniu.\n\nSusitikimas vyks balandžio 21 d. po mišių\, 12.45 p.m.\, Šv. Kazimiero lietuvių parapijos žemutinėje salėje (2718 St. George Street\, Los Angeles\, CA\, 90027-3321).\n\nNusiteikime įdomiam pokalbiui ir gausiai dalyvaukime!
URL:https://vakaruvejai.com/renginys/susitikimas-su-seimo-nariu-zygimantu-pavilionu-los-andzelas/
LOCATION:Šv. Kazimiero parapija\, 2716 St. George St.\, Los Angeles\, CA\, 90027
CATEGORIES:Lietuviški renginiai,Los Andželas
ATTACH;FMTTYPE=image/jpeg:https://vakaruvejai.com/wp-content/uploads/2024/04/434760925_814716710698309_8124345233078772523_n.jpeg
END:VEVENT
END:VCALENDAR