BEGIN:VCALENDAR
VERSION:2.0
PRODID:-//Vakarų Vėjai - ECPv6.15.3//NONSGML v1.0//EN
CALSCALE:GREGORIAN
METHOD:PUBLISH
X-ORIGINAL-URL:https://vakaruvejai.com
X-WR-CALDESC:Vakarų Vėjai renginiai
REFRESH-INTERVAL;VALUE=DURATION:PT1H
X-Robots-Tag:noindex
X-PUBLISHED-TTL:PT1H
BEGIN:VTIMEZONE
TZID:America/Los_Angeles
BEGIN:DAYLIGHT
TZOFFSETFROM:-0800
TZOFFSETTO:-0700
TZNAME:PDT
DTSTART:20190310T100000
END:DAYLIGHT
BEGIN:STANDARD
TZOFFSETFROM:-0700
TZOFFSETTO:-0800
TZNAME:PST
DTSTART:20191103T090000
END:STANDARD
BEGIN:DAYLIGHT
TZOFFSETFROM:-0800
TZOFFSETTO:-0700
TZNAME:PDT
DTSTART:20200308T100000
END:DAYLIGHT
BEGIN:STANDARD
TZOFFSETFROM:-0700
TZOFFSETTO:-0800
TZNAME:PST
DTSTART:20201101T090000
END:STANDARD
END:VTIMEZONE
BEGIN:VEVENT
DTSTART;TZID=America/Los_Angeles:20200301T110000
DTEND;TZID=America/Los_Angeles:20200301T120000
DTSTAMP:20260423T144107
CREATED:20200228T185015Z
LAST-MODIFIED:20200228T185328Z
UID:11676-1583060400-1583064000@vakaruvejai.com
SUMMARY:Šv. Mišios už pasaulio lietuvius su prelatu E. Putrimu\, Los Angeles
DESCRIPTION:Kovo 1 d.\, sekmadienį\, 11 val. melsimės už pasaulio lietuvius! 🇱🇹 Šv. Mišias aukos prelatas Edmundas Putrimas ir kunigas Tomas Karanauskas. Tai išskirtinės šv. Misios – jos bus įrašomos ir transliuojamos per Marijos radiją Lietuvoje. Susitikime!
URL:https://vakaruvejai.com/renginys/sv-misios-uz-pasaulio-lietuvius-su-prelatu-e-putrimu/
LOCATION:Šv. Kazimiero parapija Los Andžele\, 2718 St George St\, Los Angeles\, CA\, 90027\, United States
CATEGORIES:Lietuviški renginiai,Los Andželas
END:VEVENT
BEGIN:VEVENT
DTSTART;TZID=America/Los_Angeles:20200222T180000
DTEND;TZID=America/Los_Angeles:20200222T210000
DTSTAMP:20260423T144107
CREATED:20200110T064028Z
LAST-MODIFIED:20200113T083822Z
UID:10872-1582394400-1582405200@vakaruvejai.com
SUMMARY:58-asis LB "Spindulio" Užgavėnių Blynų Balius\, Los Angeles
DESCRIPTION:Visus maloniai kviečiame į tradicinį 58-ąjį LB „Spindulio” Užgavėnių Blynų Balių.\nJūsų laukia šokiai\, dainos ir blynai.\nAteikite visi pasilinksminti apsirengę nuotaikingai!
URL:https://vakaruvejai.com/renginys/58-asis-lb-spindulio-uzgaveniu-blynu-balius/
LOCATION:Šv. Kazimiero parapija Los Andžele\, 2718 St George St\, Los Angeles\, CA\, 90027\, United States
CATEGORIES:Lietuviški renginiai,Los Andželas
ATTACH;FMTTYPE=image/jpeg:https://vakaruvejai.com/wp-content/uploads/2020/01/IMG_9342.jpg
ORGANIZER;CN="LB 'Spindulys'":MAILTO:spindulys@aol.com
END:VEVENT
BEGIN:VEVENT
DTSTART;TZID=America/Los_Angeles:20200105T110000
DTEND;TZID=America/Los_Angeles:20200105T120000
DTSTAMP:20260423T144107
CREATED:20191017T205439Z
LAST-MODIFIED:20191220T024443Z
UID:9269-1578222000-1578225600@vakaruvejai.com
SUMMARY:Trijų Karalių šv. Mišios\, Los Angeles
DESCRIPTION:8:00 ir 9:30 val. šv. Mišios vyks anglų kalba\, 11:00 val – lietuviškai.
URL:https://vakaruvejai.com/renginys/triju-karaliu-misios/
LOCATION:Šv. Kazimiero parapija Los Andžele\, 2718 St George St\, Los Angeles\, CA\, 90027\, United States
CATEGORIES:Lietuviški renginiai,Los Andželas
END:VEVENT
BEGIN:VEVENT
DTSTART;TZID=America/Los_Angeles:20191231T200000
DTEND;TZID=America/Los_Angeles:20200101T010000
DTSTAMP:20260423T144107
CREATED:20191220T202546Z
LAST-MODIFIED:20191230T071916Z
UID:10546-1577822400-1577840400@vakaruvejai.com
SUMMARY:Naujųjų Metų sutikimas šv. Kazimiero parapijoje\, Los Angeles
DESCRIPTION:Jaukus Naujųjų 2020 Metų sutikimas Gruodžio 31d. 8 val. vakaro šv. Kazimiero parapijos salėje. Kviečiame visus\, didelius ir mažus. Ateikite\, atsiveskite savo draugus\, atsineškite užkandžių\, gėrimų ir gerą nuotaiką. Vakaro šventine muzika pasirūpins Edvardas Gailiūnas\, o visus linksmins vakaro vedantieji Rolandas Dabrukas ir Saulius Kajota. Įėjimas nemokamas. \nDėl stalų rezervacijos kreiptis į Zitą Orfanos (310) 804- 7549
URL:https://vakaruvejai.com/renginys/naujuju-metu-sutikimas-sv-kazimiero-parapijoje-los-angeles/
LOCATION:Šv. Kazimiero parapija Los Andžele\, 2718 St George St\, Los Angeles\, CA\, 90027\, United States
CATEGORIES:Los Andželas
ATTACH;FMTTYPE=image/jpeg:https://vakaruvejai.com/wp-content/uploads/2019/12/Nauji-metai.jpg
ORGANIZER;CN="%C5%A1v. Kazimiero parapija":MAILTO:st.casimir@gmail.com
END:VEVENT
BEGIN:VEVENT
DTSTART;TZID=America/Los_Angeles:20191231T080000
DTEND;TZID=America/Los_Angeles:20191231T090000
DTSTAMP:20260423T144107
CREATED:20191017T204453Z
LAST-MODIFIED:20191220T024338Z
UID:9265-1577779200-1577782800@vakaruvejai.com
SUMMARY:Padėkos Dievui šv. Mišios\, Los Angeles
DESCRIPTION:Pasitinkant Naujuosius metus\, kviečiame į šv. Mišias\, skirtas padėkai Dievui (anglų k.)
URL:https://vakaruvejai.com/renginys/padekos-dievui-sv-misios/
CATEGORIES:Los Andželas
END:VEVENT
BEGIN:VEVENT
DTSTART;TZID=America/Los_Angeles:20191225T113000
DTEND;TZID=America/Los_Angeles:20191225T123000
DTSTAMP:20260423T144107
CREATED:20191017T203345Z
LAST-MODIFIED:20191220T024132Z
UID:9262-1577273400-1577277000@vakaruvejai.com
SUMMARY:Šv. Kalėdų ryto mišios\, Los Angeles
DESCRIPTION:Kviečiame į Šv. Mišias Šv. rytą. 9:30 val. jos vyks anglų kalba\, 11:00 – lietuviškai.
URL:https://vakaruvejai.com/renginys/sv-kaledu-dienos-misios/
CATEGORIES:Lietuviški renginiai,Los Andželas
END:VEVENT
BEGIN:VEVENT
DTSTART;TZID=America/Los_Angeles:20191225T000000
DTEND;TZID=America/Los_Angeles:20191225T010000
DTSTAMP:20260423T144107
CREATED:20191220T222528Z
LAST-MODIFIED:20191223T065203Z
UID:10549-1577232000-1577235600@vakaruvejai.com
SUMMARY:Kalėdinė vakaronė šv. Kazimiero parapijoje
DESCRIPTION:Kviečiame visus pratęsti tradiciją ir iš karto po šv. Bernelių Mišių po vidurnakčio nusileisti į žemutinę parapijos salę. Ten jūsų lauks vaišės\, keptas paršelis\, gėrimai\, saldumynai. \nLauksime visų!
URL:https://vakaruvejai.com/renginys/kaledine-vakarone-sv-kazimiero-parapijoje/
LOCATION:Šv. Kazimiero parapija Los Andžele\, 2718 St George St\, Los Angeles\, CA\, 90027\, United States
CATEGORIES:Lietuviški renginiai,Los Andželas
ATTACH;FMTTYPE=image/jpeg:https://vakaruvejai.com/wp-content/uploads/2019/12/kuciu-stalas.jpg
ORGANIZER;CN="%C5%A1v. Kazimiero parapija":MAILTO:st.casimir@gmail.com
END:VEVENT
END:VCALENDAR