BEGIN:VCALENDAR
VERSION:2.0
PRODID:-//Vakarų Vėjai - ECPv6.15.3//NONSGML v1.0//EN
CALSCALE:GREGORIAN
METHOD:PUBLISH
X-WR-CALNAME:Vakarų Vėjai
X-ORIGINAL-URL:https://vakaruvejai.com
X-WR-CALDESC:Vakarų Vėjai renginiai
REFRESH-INTERVAL;VALUE=DURATION:PT1H
X-Robots-Tag:noindex
X-PUBLISHED-TTL:PT1H
BEGIN:VTIMEZONE
TZID:America/Los_Angeles
BEGIN:DAYLIGHT
TZOFFSETFROM:-0800
TZOFFSETTO:-0700
TZNAME:PDT
DTSTART:20210314T100000
END:DAYLIGHT
BEGIN:STANDARD
TZOFFSETFROM:-0700
TZOFFSETTO:-0800
TZNAME:PST
DTSTART:20211107T090000
END:STANDARD
BEGIN:DAYLIGHT
TZOFFSETFROM:-0800
TZOFFSETTO:-0700
TZNAME:PDT
DTSTART:20220313T100000
END:DAYLIGHT
BEGIN:STANDARD
TZOFFSETFROM:-0700
TZOFFSETTO:-0800
TZNAME:PST
DTSTART:20221106T090000
END:STANDARD
BEGIN:DAYLIGHT
TZOFFSETFROM:-0800
TZOFFSETTO:-0700
TZNAME:PDT
DTSTART:20230312T100000
END:DAYLIGHT
BEGIN:STANDARD
TZOFFSETFROM:-0700
TZOFFSETTO:-0800
TZNAME:PST
DTSTART:20231105T090000
END:STANDARD
BEGIN:DAYLIGHT
TZOFFSETFROM:-0800
TZOFFSETTO:-0700
TZNAME:PDT
DTSTART:20240310T100000
END:DAYLIGHT
BEGIN:STANDARD
TZOFFSETFROM:-0700
TZOFFSETTO:-0800
TZNAME:PST
DTSTART:20241103T090000
END:STANDARD
END:VTIMEZONE
BEGIN:VEVENT
DTSTART;TZID=America/Los_Angeles:20240323T103000
DTEND;TZID=America/Los_Angeles:20240323T133000
DTSTAMP:20260423T155740
CREATED:20240323T003459Z
LAST-MODIFIED:20240323T014222Z
UID:26267-1711189800-1711200600@vakaruvejai.com
SUMMARY:Velykinių margučių ir verbų rišimo dirbtuvės\, San Franciskas
DESCRIPTION:Kviečiame visus SF Bendruomenės narius į VELYKINIŲ MARGUČIŲ IR VERBŲ RIŠIMO DIRBTUVES! \nKada: Šeštadienį\, kovo 23 d.\nKur: San Francisko Lituanistinės Mokyklos „Genys” Salėje/Castro Valley United Methodist Church\n19806 Wisteria Street\nCastro Valley\, CA 94546 \nSVARBU: Prašome atsinešti\n– 6 kietai virtus kiaušinius\n(kambario temperatūros).\n– ridenimo lovelius (jeigu turite). \nDirbtuvių tvarkaraštis pagal amžiaus grupes(salėje):\n10:30 – 11:00 – Zuikučiai/Darželis\, 1-4 klasės – (3-9 metų + tėveliai)\n11:00 – 11:30 – 5-8 klasės – (10-14 metų amžiaus vaikai + tėveliai)\n11:30 -12:00 – UŽKANDŽIO PERTRAUKA\n12:00 – 1:30 – Velykinė programa visiems SALĖJE.\n– Velykų bobutė ir jos anūkėlių pasaka.\n– Velykinių kiaušinių ridenimas\, verbų rišimas ir velykiniai žaidimai.\n– Šiemet turėsime net 4 šventines veiklų stotis.
URL:https://vakaruvejai.com/renginys/velykiniu-marguciu-ir-verbu-risimo-dirbtuves-san-franciskas/
LOCATION:Lituanistinė mokykla „Genys”\, 778 26th Ave\, San Francisco\, CA\, 94121-3614\, United States
CATEGORIES:Lietuviški renginiai,San Franciskas
ATTACH;FMTTYPE=image/jpeg:https://vakaruvejai.com/wp-content/uploads/2024/03/IMG_5781.jpeg
END:VEVENT
BEGIN:VEVENT
DTSTART;TZID=America/Los_Angeles:20230402T110000
DTEND;TZID=America/Los_Angeles:20230402T130000
DTSTAMP:20260423T155740
CREATED:20230313T041237Z
LAST-MODIFIED:20230313T041432Z
UID:24015-1680433200-1680440400@vakaruvejai.com
SUMMARY:Velykos San Diego lietuvių mokyklėlėje
DESCRIPTION:San Diego lietuvių mokyklėlė kviečia visus bendruomenės narius kartu atšvęsti gražiausią pavasario šventę – Velykas. \nKada: balandžio 2d. 11:00am \nKur: 5500 Grossmont Center Dr\, La Mesa\, CA 91942 \nPrograma: \n– Velykų tradicijų pamokėlė; \n– Kiaušinių marginimas vašku; \n– Verbų dirbtuvės; \n– Kiaušinių ridenimas. \nAtsineškite užkandžių. \nVisų labai lauksime!
URL:https://vakaruvejai.com/renginys/velykos-san-diego-lietuviu-mokykleleje/
LOCATION:5500 Grossmont Center Dr\, La Mesa\, CA 91942
CATEGORIES:Lietuviški renginiai,San Diego
ATTACH;FMTTYPE=image/jpeg:https://vakaruvejai.com/wp-content/uploads/2023/03/04C2552F-1FD7-404C-9862-2613D86039FF.jpeg
END:VEVENT
BEGIN:VEVENT
DTSTART;VALUE=DATE:20210329
DTEND;VALUE=DATE:20210404
DTSTAMP:20260423T155740
CREATED:20210326T155641Z
LAST-MODIFIED:20210326T160242Z
UID:15694-1616976000-1617494399@vakaruvejai.com
SUMMARY:Didžiosios savaitės pamaldų kalendorius\, Los Angeles
DESCRIPTION:Didysis Pirmadienis \nkovo 29d. @ 9:00am (anglų kalba) – mišios viduje\, ne daugiau kaip 40 žmonių. \nDidysis Antradienis \nkovo 30d. @ 9:00am (anglų kalba) – mišios viduje\, ne daugiau kaip 40 žmonių. \nDidysis Trečiadienis \nkovo 31d. @ 9:00am (anglų kalba) – mišios viduje\, ne daugiau kaip 40 žmonių. \nDidysis Ketvirtadienis \nbalandžio 1d. \nPaskutinės Vakarienės šv. Mišios @ 7:00pm – mišios viduje\, ne daugiau kaip 40 žmonių. \nšv. Sakramento adoracija iki 9:00pm (angliškai ir lietuviškai). \nDidysis Penktadienis \nbalandžio 2d. \nDidžiojo Penktadienio šv. Mišios @ 3:00pm – mišios viduje\, ne daugiau kaip 40 žmonių. \nKryžiaus Kelio stotys @ 6:30pm – lauke. \nDidysis Šeštadienis \nbalandžio 3d. \nUgnies šventinimas @ 7:00pm (anglų\, lietuvių kalba) – mišios viduje\, ne daugiau kaip 40 žmonių. \nRegistracija privaloma! \nRegistracija: \nParapijos ofisas: (323) 664 – 4660 \nParapijos sekretorė Zita (310) 804 – 7549.
URL:https://vakaruvejai.com/renginys/didziosios-savaites-pamaldu-kalendorius/
LOCATION:Šv. Kazimiero parapija Los Andžele\, 2718 St George St\, Los Angeles\, CA\, 90027\, United States
CATEGORIES:Los Andželas
ATTACH;FMTTYPE=image/jpeg:https://vakaruvejai.com/wp-content/uploads/2021/03/04e996f56a96cec015624506f4f0f5425d57fc6796eeeb90c296c0ac58f255b4-rimg-w526-h395-gmir.jpg
ORGANIZER;CN="%C5%A1v. Kazimiero parapija":MAILTO:st.casimir@gmail.com
END:VEVENT
BEGIN:VEVENT
DTSTART;TZID=America/Los_Angeles:20210317T170000
DTEND;TZID=America/Los_Angeles:20210317T180000
DTSTAMP:20260423T155740
CREATED:20210303T025505Z
LAST-MODIFIED:20210303T025505Z
UID:15505-1616000400-1616004000@vakaruvejai.com
SUMMARY:Margutis – pavasario ir Velykų simbolis\, Virtuali paskaita
DESCRIPTION:JAV LB Švietimo taryba kviečia į internetinius mokymus – Margutis – pavasario ir Velykų simbolis \nLEKTORĖS\nŽinomos tautodailininkės\, sertifikuotos amatų meistrės\, daugelio parodų dalyvės ir laureatės Odeta Tumėnaitė – Bražėnienė ir Adelė Bražėnaitė.\nDATA IR LAIKAS\n2021 m. kovo 17d. 5pm (JAV Vakarų pakrantės laiku).\nPRISIJUNGIMO INFORMACIJA\nhttps://global.gotomeeting.com/ join/599455157 \nPrisijungimas telefonu:\n+1 (872) 240-3212\nPrieigos kodas: 599-455-157 \nMOKYMAI\nTeorinėje dalyje tautodailininkės pasakos apie Velykų papročius ir žaidimus\, aptars margučių dažymo tradicijas ir būdus. Su pavyzdžiais pristatys tradicinius margučių marginimo būdus Lietuvoje. Supažindins su žymiausiomis margučių kūrėjomis\, pristatys O. Bražėnienės knygą “Margučių marginimas Aukštaitijoje”. Taip pat aptars žymiausias ir įdomiausias lietuviškų margučių privačias kolekcijas. Amatų meistrės demonstruos pačius įdomiausius savo kolekcijos margučius. \nPRAKTINIAI MOKYMAI:\nPraktinėje dalyje tautodailininkės trumpai pristatys margučių skutinėjimo techniką ir nuosekliai demonstruos velykaičių išrašymo karštu vašku techniką.\nReikia turėti: 2- 3 išvirtus kiaušinius ( geriausiai – baltu lukštu\, bet nebūtinai)\, reikėtų bičių vaško\, indelio vaškui kaitinti ( tinka spec. aliejinės)\, adatėlė su galvute ar vinukas įkaltas į pagaliuką – vašku rašyti. Dar žvakučių\, kaitinti vašką. Pasiruošti ir turėti stipraus dažų tirpalo\, nors 2 spalvų. \n  \n 
URL:https://vakaruvejai.com/renginys/margutis-pavasario-ir-velyku-simbolis-virtuali-paskaita/
LOCATION:Virtualus renginys
CATEGORIES:Arizona,Hawaii,Lietuviški renginiai,Los Andželas,Nevada,Portlandas,San Diego,San Franciskas,Seattle,Virtualus renginys
ATTACH;FMTTYPE=image/jpeg:https://vakaruvejai.com/wp-content/uploads/2021/03/BD3E447F-5191-406E-9BE2-BA28D150EFAA.jpeg
END:VEVENT
END:VCALENDAR