BEGIN:VCALENDAR
VERSION:2.0
PRODID:-//Vakarų Vėjai - ECPv6.15.3//NONSGML v1.0//EN
CALSCALE:GREGORIAN
METHOD:PUBLISH
X-WR-CALNAME:Vakarų Vėjai
X-ORIGINAL-URL:https://vakaruvejai.com
X-WR-CALDESC:Vakarų Vėjai renginiai
REFRESH-INTERVAL;VALUE=DURATION:PT1H
X-Robots-Tag:noindex
X-PUBLISHED-TTL:PT1H
BEGIN:VTIMEZONE
TZID:America/Los_Angeles
BEGIN:DAYLIGHT
TZOFFSETFROM:-0800
TZOFFSETTO:-0700
TZNAME:PDT
DTSTART:20220313T100000
END:DAYLIGHT
BEGIN:STANDARD
TZOFFSETFROM:-0700
TZOFFSETTO:-0800
TZNAME:PST
DTSTART:20221106T090000
END:STANDARD
BEGIN:DAYLIGHT
TZOFFSETFROM:-0800
TZOFFSETTO:-0700
TZNAME:PDT
DTSTART:20230312T100000
END:DAYLIGHT
BEGIN:STANDARD
TZOFFSETFROM:-0700
TZOFFSETTO:-0800
TZNAME:PST
DTSTART:20231105T090000
END:STANDARD
BEGIN:DAYLIGHT
TZOFFSETFROM:-0800
TZOFFSETTO:-0700
TZNAME:PDT
DTSTART:20240310T100000
END:DAYLIGHT
BEGIN:STANDARD
TZOFFSETFROM:-0700
TZOFFSETTO:-0800
TZNAME:PST
DTSTART:20241103T090000
END:STANDARD
BEGIN:DAYLIGHT
TZOFFSETFROM:-0800
TZOFFSETTO:-0700
TZNAME:PDT
DTSTART:20250309T100000
END:DAYLIGHT
BEGIN:STANDARD
TZOFFSETFROM:-0700
TZOFFSETTO:-0800
TZNAME:PST
DTSTART:20251102T090000
END:STANDARD
END:VTIMEZONE
BEGIN:VEVENT
DTSTART;TZID=America/Los_Angeles:20250526T150000
DTEND;TZID=America/Los_Angeles:20250526T170000
DTSTAMP:20260423T191315
CREATED:20250524T042228Z
LAST-MODIFIED:20250524T042228Z
UID:29087-1748271600-1748278800@vakaruvejai.com
SUMMARY:"Lietutis" and "Griaustinis" folk dance performances at Seattle Folklife Festival\, Seattle\, WA
DESCRIPTION:Get ready to experience the vibrant spirit of Lithuania at the Northwest Folklife Festival!\nCome and support our talented Lithuanian dance groups\, „Lietutis” and „Griaustinis”\, as they showcase the beauty and energy of Lithuanian folk dance!\nMark your calendars and join us for captivating performances filled with tradition\, music\, and joy. It’s a fantastic opportunity to celebrate our heritage and share it with the wider community.\nNote: Image is „Šventė” (the celebration) by Aldona Skirutytė from the cycle Gintarėlio kraštas (land of amber)\, edition 15/50\, 1967
URL:https://vakaruvejai.com/renginys/lietutis-and-griaustinis-folk-dance-performances-at-seattle-folklife-festival-seattle-wa/
LOCATION:Seattle Center Exhibition Hall\, 301 Mercer St.\, Seattle\, WA\, 98109
CATEGORIES:Seattle
ATTACH;FMTTYPE=image/jpeg:https://vakaruvejai.com/wp-content/uploads/2025/05/496295332_1098028102349526_9035729744768136873_n.jpeg
ORGANIZER;CN="Seattle Lithuanian Community/Seattle Lietuvi%C5%B3 Bendruomen%C4%97":MAILTO:seattlelb.president@gmail.com
END:VEVENT
BEGIN:VEVENT
DTSTART;TZID=America/Los_Angeles:20230211T120000
DTEND;TZID=America/Los_Angeles:20230211T131500
DTSTAMP:20260423T191315
CREATED:20230106T052333Z
LAST-MODIFIED:20230211T022549Z
UID:23353-1676116800-1676121300@vakaruvejai.com
SUMMARY:LB Spindulio "Blynų Balius"\, Los Andželas
DESCRIPTION:
URL:https://vakaruvejai.com/renginys/lb-spindulio-blynu-balius-los-andzelas/
LOCATION:Šv. Kazimiero parapijos salėje\, 2714 St. George St.\, Los Angeles\, CA\, 90027
CATEGORIES:Lietuviški renginiai,Los Andželas
ATTACH;FMTTYPE=image/png:https://vakaruvejai.com/wp-content/uploads/2023/01/Screen-Shot-2023-01-27-at-3.24.01-PM.png
ORGANIZER;CN="LB Spindulys":MAILTO:spindulys@aol.com
END:VEVENT
BEGIN:VEVENT
DTSTART;VALUE=DATE:20220701
DTEND;VALUE=DATE:20220704
DTSTAMP:20260423T191315
CREATED:20220520T173555Z
LAST-MODIFIED:20220520T173555Z
UID:21501-1656633600-1656892799@vakaruvejai.com
SUMMARY:LIETUVIŲ TAUTINIŲ ŠOKIŲ ŠVENTĖ 2022\, FILADELFIJA
DESCRIPTION:Šiaurės Amerikos XVI Lietuvių Tautinių Šokių Šventė vyks Filadelfijoje 2022 m. liepos 1-3 dienomis kur susirinks apie 10\,000 šventės dalyvių\, žiūrovų ir svečių iš viso pasaulio.  Renginio savaitgaliui numatoma koncertų\, meno parodų ir pokylių.  Šventės kulminacija tai sekmadienio\, liepos 3 d. koncertas\, kai lietuviškame šokyje į spalvingą ir dinamišką derinį susilies beveik 2\,000 šokėjų.  Laukiame visų istorinėje Filadelfijoje!
URL:https://vakaruvejai.com/renginys/lietuviu-tautiniu-sokiu-svente-2022-filadelfija/
LOCATION:Liacouras Arena\, 1776 North Broad St.\, Philadelphia\, PA\, 19121
CATEGORIES:Lietuviški renginiai
ATTACH;FMTTYPE=image/jpeg:https://vakaruvejai.com/wp-content/uploads/2022/05/281693294_1131515400753820_2909282459099333482_n.jpg
END:VEVENT
END:VCALENDAR