BEGIN:VCALENDAR
VERSION:2.0
PRODID:-//Vakarų Vėjai - ECPv6.15.3//NONSGML v1.0//EN
CALSCALE:GREGORIAN
METHOD:PUBLISH
X-WR-CALNAME:Vakarų Vėjai
X-ORIGINAL-URL:https://vakaruvejai.com
X-WR-CALDESC:Vakarų Vėjai renginiai
REFRESH-INTERVAL;VALUE=DURATION:PT1H
X-Robots-Tag:noindex
X-PUBLISHED-TTL:PT1H
BEGIN:VTIMEZONE
TZID:America/Los_Angeles
BEGIN:DAYLIGHT
TZOFFSETFROM:-0800
TZOFFSETTO:-0700
TZNAME:PDT
DTSTART:20200308T100000
END:DAYLIGHT
BEGIN:STANDARD
TZOFFSETFROM:-0700
TZOFFSETTO:-0800
TZNAME:PST
DTSTART:20201101T090000
END:STANDARD
BEGIN:DAYLIGHT
TZOFFSETFROM:-0800
TZOFFSETTO:-0700
TZNAME:PDT
DTSTART:20210314T100000
END:DAYLIGHT
BEGIN:STANDARD
TZOFFSETFROM:-0700
TZOFFSETTO:-0800
TZNAME:PST
DTSTART:20211107T090000
END:STANDARD
BEGIN:DAYLIGHT
TZOFFSETFROM:-0800
TZOFFSETTO:-0700
TZNAME:PDT
DTSTART:20220313T100000
END:DAYLIGHT
BEGIN:STANDARD
TZOFFSETFROM:-0700
TZOFFSETTO:-0800
TZNAME:PST
DTSTART:20221106T090000
END:STANDARD
BEGIN:DAYLIGHT
TZOFFSETFROM:-0800
TZOFFSETTO:-0700
TZNAME:PDT
DTSTART:20230312T100000
END:DAYLIGHT
BEGIN:STANDARD
TZOFFSETFROM:-0700
TZOFFSETTO:-0800
TZNAME:PST
DTSTART:20231105T090000
END:STANDARD
BEGIN:DAYLIGHT
TZOFFSETFROM:-0800
TZOFFSETTO:-0700
TZNAME:PDT
DTSTART:20240310T100000
END:DAYLIGHT
BEGIN:STANDARD
TZOFFSETFROM:-0700
TZOFFSETTO:-0800
TZNAME:PST
DTSTART:20241103T090000
END:STANDARD
BEGIN:DAYLIGHT
TZOFFSETFROM:-0800
TZOFFSETTO:-0700
TZNAME:PDT
DTSTART:20250309T100000
END:DAYLIGHT
BEGIN:STANDARD
TZOFFSETFROM:-0700
TZOFFSETTO:-0800
TZNAME:PST
DTSTART:20251102T090000
END:STANDARD
BEGIN:DAYLIGHT
TZOFFSETFROM:-0800
TZOFFSETTO:-0700
TZNAME:PDT
DTSTART:20260308T100000
END:DAYLIGHT
BEGIN:STANDARD
TZOFFSETFROM:-0700
TZOFFSETTO:-0800
TZNAME:PST
DTSTART:20261101T090000
END:STANDARD
END:VTIMEZONE
BEGIN:VEVENT
DTSTART;TZID=America/Los_Angeles:20260321T130000
DTEND;TZID=America/Los_Angeles:20260321T150000
DTSTAMP:20260423T173409
CREATED:20260220T003207Z
LAST-MODIFIED:20260220T003207Z
UID:30597-1774098000-1774105200@vakaruvejai.com
SUMMARY:Atminimo vakaras išeivijos poetei Danai Mickutei-Mitkienei\, Los Andželas
DESCRIPTION:“Just Millin’ Around” teatras kviečia į atminimo renginį\, skirtą išeivijos poetei Danai Mickutei-Mitkienei. \nRenginys vyks kovo 21 d. (šeštadienį) 13 val. B Brazdžionio vardo menininkų kiemelyje. \n– Bus atidengta garbės lentelė poetei \n– Dalinsimės jos gyvenimo ir kūrybos prisiminimais \n– Skambės gyva muzika ir eilės \nRENGINYS NEMOKAMAS \nOrganizatoriai: “Just Millin’ Around” teatras ir poetės šeima.
URL:https://vakaruvejai.com/renginys/atminimo-vakaras-iseivijos-poetei-danai-mickutei-mitkienei-los-andzelas/
LOCATION:Bernardo Brazdžionio vardo išeivijos menininkų kiemelis\, 2901 Griffith Park Blvd.\, Los Angeles\, CA\, 90027\, United States
CATEGORIES:Lietuviški renginiai,Los Andželas
ATTACH;FMTTYPE=image/jpeg:https://vakaruvejai.com/wp-content/uploads/2026/02/IMG_6892.jpeg
END:VEVENT
BEGIN:VEVENT
DTSTART;TZID=America/Los_Angeles:20250316T130000
DTEND;TZID=America/Los_Angeles:20250316T150000
DTSTAMP:20260423T173409
CREATED:20250315T074901Z
LAST-MODIFIED:20250315T074901Z
UID:28665-1742130000-1742137200@vakaruvejai.com
SUMMARY:Poezijos ir muzikos improvizacijų popietė "Jausmų džiazas"\, Los Andželas
DESCRIPTION:KADA: KOVO 16 D. 1 VAL. PO PIETŲ \nKUR: ŠV. KAZIMIERO BAŽNYČIOJE \n\nPOEZIJOS IR MUZIKOS IMPROVIZACIJŲ POPIETĖ „JAUSMŲ DŽIAZAS”.\n\nPAČIOS GRAŽIAUSIOS EILĖS IR DAINOS  \nKLAIPĖDOS DRAMOS TEATRO AKTORĖ \nEGLĖ JACKAITĖ \nKokių jausmų dabar labiausiai ilgitės?\n\nVisada renkuosi jausmą. Ar sutinki\, kad jausmai žino daugiau nei protas? Nesutinki?  \nTada būtent tavęs aš laukiu.\n\nAteikite į „Jausmų džiazą” – pačių įvairiausių nuotaikų ir jausmų sūkurį\, kurį mes visi kartu kuriame iš eilių\, dainų\, muzikos ir nuoširdumo. Ir dar artumo jausmo.\n\nAteikite pajusti\, kiek gyvybės ir jėgų slypi jūsų viduje.\n\nAteikite pasiklausyti\, išgirsti\, pasijuokti\, gal paverkti. Taip būna!\n\nAteikite – pajusime GYVENIMĄ. \nVISŲ LAUKIAME!
URL:https://vakaruvejai.com/renginys/poezijos-ir-muzikos-improvizaciju-popiete-jausmu-dziazas-los-andzelas/
LOCATION:Šv. Kazimiero parapijos salėje\, 2714 St. George St.\, Los Angeles\, CA\, 90027
CATEGORIES:Lietuviški renginiai,Los Andželas
ATTACH;FMTTYPE=image/jpeg:https://vakaruvejai.com/wp-content/uploads/2025/03/IMG_1940-scaled.jpg
ORGANIZER;CN="%C5%A1v. Kazimiero parapija":MAILTO:st.casimir@gmail.com
END:VEVENT
BEGIN:VEVENT
DTSTART;TZID=America/Los_Angeles:20240608T180000
DTEND;TZID=America/Los_Angeles:20240608T210000
DTSTAMP:20260423T173409
CREATED:20240518T034229Z
LAST-MODIFIED:20240601T013017Z
UID:26827-1717869600-1717880400@vakaruvejai.com
SUMMARY:Sigutės Miller spaktaklis „Tragiška Magija“\, San Franciskas
DESCRIPTION:Įtraukiantis Sigutes autobiografinis spektaklis gastroliavęs Los Andžele\, Niujorke ir Čikagoje ir susilaukęs puikių įvertinimų. \nDurys atidaromos 5:00pm \nSpekataklis 6-7pm \nPo spektaklio pokalbis su Sigute. \nVeiks baras. \nBilietus pirkite čia:  \n$35 \n$30 – sumokėjusiems Solidarumo mokestį čia \nŠioje pjesėje pasakojama mano istorija\, kaip pirmos kartos emigranto vaiko užauginto Čikagoje\, susidūrusio su priklausomybės demonu nuo pat mažų dienų ir siaubingais įvykiais\, kurie galiausiai atvedė į blaivybę\, viltį ir transformaciją. Spektaklis atliekamas anglų kalba\, jame skamba lietuviškos dainos ir tradicijos. \nTRAGIC MAGIC is a riveting saga of tragedy\, recovery and transformation. As a daughter of Lithuanian “DP’s”\, growing up in Chicago and needing to fit in\, Sigute experienced the ‘dragon’ of addiction early. The show shares stories of hanging with the bad boys\, harrowing blackouts at a young age\, #MeToo casting couch shame\, wild escapades as a star manager on Rodeo Drive in the 80’s\, endangering her young daughter\, and confrontations with the law. \nSigute led a dual existence most of her life\, managing to balance the ‘good little girl vs. the party animal’. Until she couldn’t. \nGetting sober\, transforming in India\, and reconnecting with her first love – nature – Sigute weave her journey with honesty and humor\, and honors her Lithuanian roots through songs and the pagan ritual of hugging trees. \nWithin my story is hidden the tragic loss of her brother\, who had struggles of his own.  His beautiful and haunting poetry is scattered throughout the play\, bringing a deeper meaning to not only his short life but to Sigute’s\, as well. So\, in the end\, it is not just her story\, but his too. \nTragic Magic is ultimately a story of hope\, redemption and triumph.
URL:https://vakaruvejai.com/renginys/sigutes-miller-spaktaklis-tragiska-magija-san-franciskas/
LOCATION:Latvian Church Hall\, 425 Hoffman Ave\, San Francisco\, CA\, 94114
CATEGORIES:Lietuviški renginiai,San Franciskas
ATTACH;FMTTYPE=image/jpeg:https://vakaruvejai.com/wp-content/uploads/2024/05/poster.jpg
END:VEVENT
BEGIN:VEVENT
DTSTART;TZID=America/Los_Angeles:20201220T180000
DTEND;TZID=America/Los_Angeles:20201220T183000
DTSTAMP:20260423T173409
CREATED:20201203T124405Z
LAST-MODIFIED:20201203T124405Z
UID:14124-1608487200-1608489000@vakaruvejai.com
SUMMARY:Kalėdų spektaklis ir dirbtuvėlės vaikams\, Virtualus renginys
DESCRIPTION:Brangūs Portlando bendruomenės tėveliai\, \nLituanistinė mokykla „Atžalynas” dovanoja vaikučiams Raganiukės teatro muzikinį spektaklį ” Kalėdų Senis ir Besmegenis”\, kuris bus rodomas per YouTube platformą. Išankstinė registracija reikalinga\, prašau registraciją (vaiko vardą ir pavaradę\, e-mail adresą) siūsti elektroniniu paštu: ingakozhevnikov@gmail.com iki gruodžio 16 d. Nuoroda prisijungti prie spektaklio ir dirbtuvių bus atsiūsta tik užsiregistravusiems. \n” Kalėdų Senis ir Besmegenis”\, – tai muzikinė komedija skirta mažiems ir dideliems\, ieškantiems Kalėdinio stebuklo ir pasakos. Spektaklyje pamatysite išsiblaškiusį Kalėdų Seneliuką ir jo ištikimą draugą Besmegenį. Jus džiugins ir Naminukė Kūtė\, Tarakonas Monas\, Policininkas Jonas.\nRytą atsikėlęs Kalėdų Senelis čiupo maišą\, ir išskubėjo kartu su bičiuliu Besmegeniu dalinti dovanų. Tik kai ką užmiršo namuose… naminukę Kūtę. Kokių bėdų pridarys papečkio gyventoja naminukė ir kokių nuotykių patirs bičiuliai – sužinosite mūsų spektaklyje. Kokios ten bėdos? Juk – Kalėdos!\nO Kalėdų Seneliuko didysis kaminas šaudys ne tik dovanomis\, bet ir sceniniais fejerverkais\, balionais ir sniegu. \nSusipažinkite: https://youtu.be/tfD_xD4g2nM \nPrieš spektaklį vaikų laukia kūrybinės nykštuko dirbtuvės. \nSaugiai likdami namie vaikai nuotoliniu būdu susitiks su kūrybišku ir šventiškai pasipuošusiu Raganiukės teatro nykštuku ir kartu leisis į kūrybinę kelionę. Kūrybinėse dirbtuvėse laukia kalėdinio žaisliuko -besmegenio gamyba\, kurį papuošime savo gerais darbais. Šį besmegenį bus galima išvysti spektaklio metu. Prieš prasidedant spektakliui visi vaikai turės žaisliukus pakabinti ant gerų darbų Kalėdų eglutės.\nTaip pat šios edukacijos metu jūsų laukia negirdėtos Nykštuko istorijos\, įvairūs klausimai ir atsakymai į juos.\nEdukacijos trukmė – apie 20 min. \nPriemones edukacijai pasiruošti iš anksto:\n● Spalvotas popierius\n● Flomasteriai\n● Klijai\n● Žirklės\n● Siūlas
URL:https://vakaruvejai.com/renginys/kaledu-spektaklis-ir-dirbtuveles-vaikams-virtualus-renginys/
LOCATION:Virtualus renginys
CATEGORIES:Portlandas
ATTACH;FMTTYPE=image/jpeg:https://vakaruvejai.com/wp-content/uploads/2020/12/85A47191-3C85-410E-9553-0A77D4A14BD3.jpeg
END:VEVENT
END:VCALENDAR