BEGIN:VCALENDAR
VERSION:2.0
PRODID:-//Vakarų Vėjai - ECPv6.15.3//NONSGML v1.0//EN
CALSCALE:GREGORIAN
METHOD:PUBLISH
X-WR-CALNAME:Vakarų Vėjai
X-ORIGINAL-URL:https://vakaruvejai.com
X-WR-CALDESC:Vakarų Vėjai renginiai
REFRESH-INTERVAL;VALUE=DURATION:PT1H
X-Robots-Tag:noindex
X-PUBLISHED-TTL:PT1H
BEGIN:VTIMEZONE
TZID:America/Los_Angeles
BEGIN:DAYLIGHT
TZOFFSETFROM:-0800
TZOFFSETTO:-0700
TZNAME:PDT
DTSTART:20220313T100000
END:DAYLIGHT
BEGIN:STANDARD
TZOFFSETFROM:-0700
TZOFFSETTO:-0800
TZNAME:PST
DTSTART:20221106T090000
END:STANDARD
BEGIN:DAYLIGHT
TZOFFSETFROM:-0800
TZOFFSETTO:-0700
TZNAME:PDT
DTSTART:20230312T100000
END:DAYLIGHT
BEGIN:STANDARD
TZOFFSETFROM:-0700
TZOFFSETTO:-0800
TZNAME:PST
DTSTART:20231105T090000
END:STANDARD
BEGIN:DAYLIGHT
TZOFFSETFROM:-0800
TZOFFSETTO:-0700
TZNAME:PDT
DTSTART:20240310T100000
END:DAYLIGHT
BEGIN:STANDARD
TZOFFSETFROM:-0700
TZOFFSETTO:-0800
TZNAME:PST
DTSTART:20241103T090000
END:STANDARD
END:VTIMEZONE
BEGIN:VEVENT
DTSTART;TZID=America/Los_Angeles:20241213T080000
DTEND;TZID=America/Los_Angeles:20241214T170000
DTSTAMP:20260423T160403
CREATED:20241214T035626Z
LAST-MODIFIED:20241214T063140Z
UID:28033-1734076800-1734195600@vakaruvejai.com
SUMMARY:Disney Concert Hall pristato Violetą Urmaną\, Los Andželas
DESCRIPTION:Los Andžele lankosi pasaulinio garso lietuvė solistė Violeta Urmana. Ji koncertuos „Disney Concert Hall“ kartu su legendiniu dirigentu Zubin Mehta\, atlikdami įspūdingą Gustav Mahler kūrinį „Gurrelieder“. Koncertai vyks penktadienį 12/13 ir sekmadienį 12/15. Tai reta galimybė LA išgirsti Violetą Urmaną atliekant tokio masto programą. \nBilietai: \nhttps://www.laphil.com/musicdb/artists/54
URL:https://vakaruvejai.com/renginys/disney-concert-hall-pristato-violeta-urmana-los-andzelas/
CATEGORIES:Los Andželas
ATTACH;FMTTYPE=image/png:https://vakaruvejai.com/wp-content/uploads/2024/12/Screen-Shot-2024-12-13-at-8.24.23-PM.png
END:VEVENT
BEGIN:VEVENT
DTSTART;TZID=America/Los_Angeles:20221012T200000
DTEND;TZID=America/Los_Angeles:20221012T220000
DTSTAMP:20260423T160403
CREATED:20221005T061445Z
LAST-MODIFIED:20221005T061445Z
UID:22622-1665604800-1665612000@vakaruvejai.com
SUMMARY:Garsiosios lietuvių dirigentės Mirgos Gražinytės-Tylos koncertas Los Andžele
DESCRIPTION:LT\n\nNuostabioji Lietuvos dirigentė Mirga Gražinytė-Tyla ir Birmingamo miesto simfoninis orkestras pasirodys Los Andžele!\nMirga Gražinytė-Tyla\, Los Andželo filharmonijos orkestro publikos mylimiausia\, per visą savo stulbinamą karjerą pelnė tiek kritikų\, tiek žiūrovų dėmesį. Ji paskutinį kartą sugrįžta kaip Birmingamo miesto simfoninio orkestro muzikos direktorė su išraiškinga ir spalvinga programa.\n\n\nKada? Spalio 12 d.\, 20 val.\nKur? „Walt Disney“ koncertų salė\nBilietai https://bit.ly/3SGlwsv\n\n\n\nEN\n\nThe marvelous Lithuanian conductor Mirga Gražinytė-Tyla and City of Birmingham Symphony Orchestra (CBSO) will perform in Los Angeles!\nMirga Gražinytė-Tyla\, a favorite of LA Phil audiences\, has won over critics and audiences alike throughout her meteoric career. She returns for one final time as Music Director of the CBSO with a widely expressive and colorful program.\n\n\nWhen? October 12\, at 8 PM\nWhere? The Walt Disney Concert Hall\nTickets  https://bit.ly/3SGlwsv
URL:https://vakaruvejai.com/renginys/garsiosios-lietuviu-dirigentes-mirgos-grazinytes-tylos-koncertas-los-andzele/
LOCATION:The Walt Disney Concert Hall\, 111 South Grand Ave\, Los Angeles\, CA\, 90012\, Jungtinės Amerikos Valstijos
CATEGORIES:Los Andželas
ATTACH;FMTTYPE=image/png:https://vakaruvejai.com/wp-content/uploads/2022/10/Screen-Shot-2022-10-04-at-11.14.17-PM.png
END:VEVENT
END:VCALENDAR