BEGIN:VCALENDAR
VERSION:2.0
PRODID:-//Vakarų Vėjai - ECPv6.15.3//NONSGML v1.0//EN
CALSCALE:GREGORIAN
METHOD:PUBLISH
X-WR-CALNAME:Vakarų Vėjai
X-ORIGINAL-URL:https://vakaruvejai.com
X-WR-CALDESC:Vakarų Vėjai renginiai
REFRESH-INTERVAL;VALUE=DURATION:PT1H
X-Robots-Tag:noindex
X-PUBLISHED-TTL:PT1H
BEGIN:VTIMEZONE
TZID:America/Los_Angeles
BEGIN:DAYLIGHT
TZOFFSETFROM:-0800
TZOFFSETTO:-0700
TZNAME:PDT
DTSTART:20250309T100000
END:DAYLIGHT
BEGIN:STANDARD
TZOFFSETFROM:-0700
TZOFFSETTO:-0800
TZNAME:PST
DTSTART:20251102T090000
END:STANDARD
END:VTIMEZONE
BEGIN:VEVENT
DTSTART;TZID=America/Los_Angeles:20251004T180000
DTEND;TZID=America/Los_Angeles:20251004T220000
DTSTAMP:20260423T130008
CREATED:20250913T030034Z
LAST-MODIFIED:20250913T030619Z
UID:29672-1759600800-1759615200@vakaruvejai.com
SUMMARY:DRUSKININKAI - Geriausia atostogų vieta Lietuvoje! San Franciskas
DESCRIPTION:San Franciske lankysis delegacija iš Druskininkų su turizmo ir verslo programa. \nNEPYK\, BET DRUSKININKAI – geriausia atostogų vieta Lietuvoje\nSPALIO 4D. 18VAL. (ŠEŠTADIENIS) – 74 New Montgomery Street\, 8th Floor\, Rooftop Terrace \nSvečiuose Druskininkų vicemeras Simonas Kazakevičius bei Druskininkų turizmo ir verslo centro direktoriaus pavaduotoja Simona Uscilaite \nSusitikimo metu bus pristatyta darbostogų\, poilsio ir sveikatinimosi idėjos Druskininkuose. \nSusipažinsime su vaikų stovyklų gausa ir pasirinkimu\, verslo plėtra bei investicijų galimybėmis Druskininkuose. \nLaukia įdomus\, interaktyvus pristatymas\, galimybė išlošti prizų\, tarp kurių nakvynė ir spa Druskininkuose. \nBūtina išankstinė registracija\, svečių skaičius ribotas\, pasikvieskite draugus\, kurie norėtų aplankyti Lietuvą. \nOrganizatoriai: LDK ALGIRDO LŠSI kuopa\, Druskininkų savivaldybė\, Druskininkų turizmo ir verslo centras \nRSVP: Vita Gailiūnaitė – vitagail@yahoo.com \nTautvydas Kaltenis dizainas
URL:https://vakaruvejai.com/renginys/druskininkai-geriausia-atostogu-vieta-lietuvoje-san-franciskas/
LOCATION:Rooftop terrace\, 74 New Montgomery Street\, 8th floor\, San Francisco\, CA\, 94105
CATEGORIES:Lietuviški renginiai,San Franciskas
ATTACH;FMTTYPE=image/jpeg:https://vakaruvejai.com/wp-content/uploads/2025/09/59ecdce6-5199-06a8-3593-33a3e09b04a6.jpeg
END:VEVENT
END:VCALENDAR