BEGIN:VCALENDAR
VERSION:2.0
PRODID:-//Vakarų Vėjai - ECPv6.15.3//NONSGML v1.0//EN
CALSCALE:GREGORIAN
METHOD:PUBLISH
X-ORIGINAL-URL:https://vakaruvejai.com
X-WR-CALDESC:Vakarų Vėjai renginiai
REFRESH-INTERVAL;VALUE=DURATION:PT1H
X-Robots-Tag:noindex
X-PUBLISHED-TTL:PT1H
BEGIN:VTIMEZONE
TZID:America/Los_Angeles
BEGIN:DAYLIGHT
TZOFFSETFROM:-0800
TZOFFSETTO:-0700
TZNAME:PDT
DTSTART:20260308T100000
END:DAYLIGHT
BEGIN:STANDARD
TZOFFSETFROM:-0700
TZOFFSETTO:-0800
TZNAME:PST
DTSTART:20261101T090000
END:STANDARD
END:VTIMEZONE
BEGIN:VEVENT
DTSTART;VALUE=DATE:20260429
DTEND;VALUE=DATE:20260501
DTSTAMP:20260423T081840
CREATED:20260228T054434Z
LAST-MODIFIED:20260418T002636Z
UID:30653-1777420800-1777593599@vakaruvejai.com
SUMMARY:North American Lithuanian Business Forum 2026 in Los Angeles
DESCRIPTION:Join us at the North American Lithuanian Business Forum (NALBF) 2026 in Los Angeles! \nFrom April 29-30\, the North American Lithuanian Business Forum (NALBF 2026) will take place on the U.S. West Coast for the first time\, bringing together those seeking to grow in international markets. \nStrong Lithuanian business delegations will travel to Los Angeles\, representing sectors such as IT\, defense and space\, creative industries\, and FoodTech. The forum will be attended by Lithuania’s Minister of the Economy and Innovation Edvinas Grikšas\, Vice Minister of Foreign Affairs Taurimas Valys\, as well as representatives from Vilnius municipality\, universities\, and research institutions. The goal is also to attract U.S. business leaders\, investors\, and decision-makers\, creating a space where collaboration is not only discussed but actively developed. \nThe event will be hosted by U.S. television presenter Patrick Evans\, while the keynote address will be delivered by Shilpa Kolhatkar\, Global Head of AI Nations at NVIDIA. The speaker lineup also includes notable figures such as Marty Kausas\, founder of AI startup Pylon; Jonas Žmuidzinas\, Merle Kingsley Professor of Physics at California Institute of Technology (Caltech); Anima Anandkumar\, Bren Professor of Computing and Mathematical Sciences\, Caltech\, Member of the United Nations (UN) Secretary-General’s Scientific Advisory Board; Jillian Manus\, Venture Partner at SHIELD Capital\, U.S. Venture Advisor to the European Innovation Council Fund; Mary-Christine “M.C.” Sungaila\, Partner\, Complex Appellate Litigation Group LLP; Professor of Space Law & Policy\, LMU Loyola Law School Los Angeles; Einaras von Gravrock\, CEO and Founder of CUBE3 AI\, Co-Founder of Cast AI\, Founder of CUJO AI\, Founder of Modnique\, Judge @ Shark Tank Lithuania; Viktorija Trimbel\, Coinvest Capital Managing Director\, among others. \nThe main NALBF day will take place on April 30 at the University of California\, Los Angeles (UCLA)\, with a networking event on the evening of April 29. The continuously updated program and registration details are available at: https://nalbforum.com \nBe part of a growing community shaping the future of transatlantic cooperation. \nNALBF 2026\nDate: April 30\, 2026 at 8:30 AM-6:30 PM\nLocation: UCLA Covel Commons\, 330 De Neve Dr\, Los Angeles\, CA 90024 \nNALBF Networking Evening\nDate: April 29\, 2026 at 6:30-9:30 PM\nLocation: Luxe Sunset Boulevard Hotel\, 11461 W Sunset Blvd\, Los Angeles\, CA 90049 \nOne ticket for both events:\nhttps://events.hoperfy.com/nalb-la-2026/tickets
URL:https://vakaruvejai.com/renginys/susitikime-nalb-forume-los-andzele/
LOCATION:Los Angeles
CATEGORIES:Los Andželas
ATTACH;FMTTYPE=image/png:https://vakaruvejai.com/wp-content/uploads/2026/04/Screenshot-2026-04-17-at-5.16.16-PM-1.png
END:VEVENT
END:VCALENDAR