BEGIN:VCALENDAR
VERSION:2.0
PRODID:-//Vakarų Vėjai - ECPv6.15.3//NONSGML v1.0//EN
CALSCALE:GREGORIAN
METHOD:PUBLISH
X-WR-CALNAME:Vakarų Vėjai
X-ORIGINAL-URL:https://vakaruvejai.com
X-WR-CALDESC:Vakarų Vėjai renginiai
REFRESH-INTERVAL;VALUE=DURATION:PT1H
X-Robots-Tag:noindex
X-PUBLISHED-TTL:PT1H
BEGIN:VTIMEZONE
TZID:America/Los_Angeles
BEGIN:DAYLIGHT
TZOFFSETFROM:-0800
TZOFFSETTO:-0700
TZNAME:PDT
DTSTART:20210314T100000
END:DAYLIGHT
BEGIN:STANDARD
TZOFFSETFROM:-0700
TZOFFSETTO:-0800
TZNAME:PST
DTSTART:20211107T090000
END:STANDARD
BEGIN:DAYLIGHT
TZOFFSETFROM:-0800
TZOFFSETTO:-0700
TZNAME:PDT
DTSTART:20220313T100000
END:DAYLIGHT
BEGIN:STANDARD
TZOFFSETFROM:-0700
TZOFFSETTO:-0800
TZNAME:PST
DTSTART:20221106T090000
END:STANDARD
BEGIN:DAYLIGHT
TZOFFSETFROM:-0800
TZOFFSETTO:-0700
TZNAME:PDT
DTSTART:20230312T100000
END:DAYLIGHT
BEGIN:STANDARD
TZOFFSETFROM:-0700
TZOFFSETTO:-0800
TZNAME:PST
DTSTART:20231105T090000
END:STANDARD
BEGIN:DAYLIGHT
TZOFFSETFROM:-0800
TZOFFSETTO:-0700
TZNAME:PDT
DTSTART:20240310T100000
END:DAYLIGHT
BEGIN:STANDARD
TZOFFSETFROM:-0700
TZOFFSETTO:-0800
TZNAME:PST
DTSTART:20241103T090000
END:STANDARD
BEGIN:DAYLIGHT
TZOFFSETFROM:-0800
TZOFFSETTO:-0700
TZNAME:PDT
DTSTART:20250309T100000
END:DAYLIGHT
BEGIN:STANDARD
TZOFFSETFROM:-0700
TZOFFSETTO:-0800
TZNAME:PST
DTSTART:20251102T090000
END:STANDARD
END:VTIMEZONE
BEGIN:VEVENT
DTSTART;TZID=America/Los_Angeles:20251115T190000
DTEND;TZID=America/Los_Angeles:20251115T210000
DTSTAMP:20260423T125948
CREATED:20251108T021622Z
LAST-MODIFIED:20251108T021622Z
UID:29932-1763233200-1763240400@vakaruvejai.com
SUMMARY:Happy Hour for Hope\, Los Andželas
DESCRIPTION:Dear community\,\nWe warmly invite you to an uplifting evening in support of a meaningful cause. Lithuanian Children’s Hope is a U.S.-based nonprofit organization committed to improving the lives of children in Lithuania who face serious medical and developmental challenges. By providing access to specialized care\, autism support programs\, and community health education\, the organization empowers children and families with hope\, healing\, and opportunity.\nNow\, we’re sharing this mission with our local community in Santa Monica—and we’d love for you to be part of it!\nHappy Hour for HopeWhere: Solidarity Restaurant – Santa Monica\, CAWhen: Saturday\, November 15th @ 7:00 PM21+ Event for Young Professionals\nEnjoy:– One complimentary drink– Light appetizers– Great conversation and community connections\n\nCome enjoy the patio\, connect with new friends\, and learn about the impactful work being done by Lithuanian Children’s Hope.\nPlease sign up to attend: RSVP https://docs.google.com/…/1FAIpQLSegSb3OgDD…/viewform…
URL:https://vakaruvejai.com/renginys/happy-hour-for-hope-los-andzelas/
LOCATION:Solidarity\, 1414 Lincoln Blvd.\, Santa Monica\, CA\, 90401
CATEGORIES:Lietuviški renginiai,Los Andželas
ATTACH;FMTTYPE=image/jpeg:https://vakaruvejai.com/wp-content/uploads/2025/11/573969003_1298105532346711_7005905196257521852_n.jpg
END:VEVENT
BEGIN:VEVENT
DTSTART;TZID=America/Los_Angeles:20220507T120000
DTEND;TZID=America/Los_Angeles:20220507T133000
DTSTAMP:20260423T125948
CREATED:20220429T053433Z
LAST-MODIFIED:20220429T053652Z
UID:21145-1651924800-1651930200@vakaruvejai.com
SUMMARY:L.A. Šv. Kazimiero Lituanistinės Mokyklos Mamyčių\, Tėvelių ir Globėjų Šventė\, Los Andželas
DESCRIPTION:Mielos mamytės\, tėveliai\, globėjai ir svečiai\, \nDėkojame Jums už nepailstamą meilę ir rūpestį. \nKviečiame į ypatingą šventę\, skirtą Jums! \nJums paruošėme daineles\, šokius\, žaidimus ir saldžias vaišes. \nAteikite\, pabūkite su mumis ir pasidžiaukime kartu! \nMokiniai\, mokytojai ir tėvų komitetas
URL:https://vakaruvejai.com/renginys/l-a-sv-kazimiero-lituanistines-mokyklos-mamyciu-teveliu-ir-globeju-svente-los-andzelas/
LOCATION:Šv. Kazimiero parapija Los Andžele\, 2718 St George St\, Los Angeles\, CA\, 90027\, United States
CATEGORIES:Lietuviški renginiai,Los Andželas
ATTACH;FMTTYPE=image/jpeg:https://vakaruvejai.com/wp-content/uploads/2022/04/E7901460-723D-4DEB-A952-2777B4531051-scaled.jpeg
END:VEVENT
BEGIN:VEVENT
DTSTART;VALUE=DATE:20210330
DTEND;VALUE=DATE:20210331
DTSTAMP:20260423T125948
CREATED:20210219T174546Z
LAST-MODIFIED:20210219T174546Z
UID:15308-1617062400-1617148799@vakaruvejai.com
SUMMARY:Vaikų talentų konkursas 2021
DESCRIPTION:JAV LB Kultūros taryba skelbia visos JAV VAIKŲ TALENTŲ KONKURSĄ!\nPirmos vietos nugalėtojo/-os laukia $1000 dol. piniginis prizas!\nDaugiau informacijos – www.javlb.org puslapyje – https://javlb.org/konkursas/\nPrašome dalintis su muzikos\, vokalo\, bei estetinio judesio meno mokytojais bei mokiniais ir jų tėveliais!\nPagrindinis konkurso remėjas – Lietuvių Fondas.
URL:https://vakaruvejai.com/renginys/vaiku-talentu-konkursas-2021/
LOCATION:CA
CATEGORIES:Arizona,Hawaii,Los Andželas,Nevada,Portlandas,San Diego,San Franciskas,Seattle
ATTACH;FMTTYPE=image/jpeg:https://vakaruvejai.com/wp-content/uploads/2021/02/32343B85-2ABF-4E16-AFC1-464D11062A57.jpeg
ORGANIZER;CN="JAV LB Kra%C5%A1to Valdyba":MAILTO:informacija@javlb.org
END:VEVENT
END:VCALENDAR