BEGIN:VCALENDAR
VERSION:2.0
PRODID:-//Vakarų Vėjai - ECPv6.15.3//NONSGML v1.0//EN
CALSCALE:GREGORIAN
METHOD:PUBLISH
X-ORIGINAL-URL:https://vakaruvejai.com
X-WR-CALDESC:Vakarų Vėjai renginiai
REFRESH-INTERVAL;VALUE=DURATION:PT1H
X-Robots-Tag:noindex
X-PUBLISHED-TTL:PT1H
BEGIN:VTIMEZONE
TZID:America/Los_Angeles
BEGIN:DAYLIGHT
TZOFFSETFROM:-0800
TZOFFSETTO:-0700
TZNAME:PDT
DTSTART:20230312T100000
END:DAYLIGHT
BEGIN:STANDARD
TZOFFSETFROM:-0700
TZOFFSETTO:-0800
TZNAME:PST
DTSTART:20231105T090000
END:STANDARD
END:VTIMEZONE
BEGIN:VEVENT
DTSTART;VALUE=DATE:20230127
DTEND;VALUE=DATE:20230301
DTSTAMP:20260423T174906
CREATED:20230128T000811Z
LAST-MODIFIED:20230128T000811Z
UID:23557-1674777600-1677628799@vakaruvejai.com
SUMMARY:Vaikų Talentų Konkursas 2023
DESCRIPTION:Skelbiamas antrasis JAV LB Kultūros tarybos organizuojamas vaikų talentų konkursas!\nRegistracija ir daugiau informacijos – internetinėje svetainėje:\nhttps://javlb.org/konkursas/
URL:https://vakaruvejai.com/renginys/vaiku-talentu-konkursas-2023/
LOCATION:virtualiai
CATEGORIES:Arizona,Hawaii,Lietuviški renginiai,Los Andželas,Nevada,Portlandas,San Diego,San Franciskas,Seattle
ATTACH;FMTTYPE=image/jpeg:https://vakaruvejai.com/wp-content/uploads/2023/01/Vaiku-Konkuras-2023-scaled-1.jpeg
END:VEVENT
END:VCALENDAR