BEGIN:VCALENDAR
VERSION:2.0
PRODID:-//Vakarų Vėjai - ECPv6.15.3//NONSGML v1.0//EN
CALSCALE:GREGORIAN
METHOD:PUBLISH
X-ORIGINAL-URL:https://vakaruvejai.com
X-WR-CALDESC:Vakarų Vėjai renginiai
REFRESH-INTERVAL;VALUE=DURATION:PT1H
X-Robots-Tag:noindex
X-PUBLISHED-TTL:PT1H
BEGIN:VTIMEZONE
TZID:America/Los_Angeles
BEGIN:DAYLIGHT
TZOFFSETFROM:-0800
TZOFFSETTO:-0700
TZNAME:PDT
DTSTART:20240310T100000
END:DAYLIGHT
BEGIN:STANDARD
TZOFFSETFROM:-0700
TZOFFSETTO:-0800
TZNAME:PST
DTSTART:20241103T090000
END:STANDARD
END:VTIMEZONE
BEGIN:VEVENT
DTSTART;TZID=America/Los_Angeles:20240622T150000
DTEND;TZID=America/Los_Angeles:20240622T200000
DTSTAMP:20260423T143924
CREATED:20240615T072618Z
LAST-MODIFIED:20240615T072618Z
UID:27085-1719068400-1719086400@vakaruvejai.com
SUMMARY:Švęskime Jonines Los Andžele / Let's celebrate Joninės in Los Angeles
DESCRIPTION:LT \n\nArtėjant ilgiausiai metų dienai ir trumpiausiai nakčiai\, kviečiame visus Los Andželo lietuvius susiburti ir kartu paminėti Jonines!\n: šeštadienis\, birželio 22 d. : 15.00 val.: Rustic Canyon Recreation Center (601 Latimer Rd\, Santa Monica\, CA 90402) : dainos\, šokiai\, žaidimai\, vainikų pynimas : pasirūpinkite užkandžiais ir gėrimais sau ir kaimynui/-ei\n\nEN\n\nAs the year’s longest day and shortest night draw near\, we warmly invite all Lithuanians in Los Angeles to come together and celebrate Joninės!\n: Saturday\, June 22 : 3:00 pm : Rustic Canyon Recreation Center (601 Latimer Rd\, Santa Monica\, CA 90402): singing\, dancing\, games and making flower crowns: bring some snacks and drinks for yourself and to share
URL:https://vakaruvejai.com/renginys/sveskime-jonines-los-andzele-lets-celebrate-jonines-in-los-angeles/
LOCATION:rustic Canyon Recreational Park\, 601 Latimer Rd\, Santa Monica\, California\, 90402\, Jungtinės Amerikos Valstijos
CATEGORIES:Lietuviški renginiai,Los Andželas
ATTACH;FMTTYPE=image/png:https://vakaruvejai.com/wp-content/uploads/2024/06/446907839_770456835295049_1180319154222053385_n.png
END:VEVENT
END:VCALENDAR