BEGIN:VCALENDAR
VERSION:2.0
PRODID:-//Vakarų Vėjai - ECPv6.15.3//NONSGML v1.0//EN
CALSCALE:GREGORIAN
METHOD:PUBLISH
X-ORIGINAL-URL:https://vakaruvejai.com
X-WR-CALDESC:Vakarų Vėjai renginiai
REFRESH-INTERVAL;VALUE=DURATION:PT1H
X-Robots-Tag:noindex
X-PUBLISHED-TTL:PT1H
BEGIN:VTIMEZONE
TZID:America/Los_Angeles
BEGIN:DAYLIGHT
TZOFFSETFROM:-0800
TZOFFSETTO:-0700
TZNAME:PDT
DTSTART:20220313T100000
END:DAYLIGHT
BEGIN:STANDARD
TZOFFSETFROM:-0700
TZOFFSETTO:-0800
TZNAME:PST
DTSTART:20221106T090000
END:STANDARD
BEGIN:DAYLIGHT
TZOFFSETFROM:-0800
TZOFFSETTO:-0700
TZNAME:PDT
DTSTART:20230312T100000
END:DAYLIGHT
BEGIN:STANDARD
TZOFFSETFROM:-0700
TZOFFSETTO:-0800
TZNAME:PST
DTSTART:20231105T090000
END:STANDARD
BEGIN:DAYLIGHT
TZOFFSETFROM:-0800
TZOFFSETTO:-0700
TZNAME:PDT
DTSTART:20240310T100000
END:DAYLIGHT
BEGIN:STANDARD
TZOFFSETFROM:-0700
TZOFFSETTO:-0800
TZNAME:PST
DTSTART:20241103T090000
END:STANDARD
BEGIN:DAYLIGHT
TZOFFSETFROM:-0800
TZOFFSETTO:-0700
TZNAME:PDT
DTSTART:20250309T100000
END:DAYLIGHT
BEGIN:STANDARD
TZOFFSETFROM:-0700
TZOFFSETTO:-0800
TZNAME:PST
DTSTART:20251102T090000
END:STANDARD
BEGIN:DAYLIGHT
TZOFFSETFROM:-0800
TZOFFSETTO:-0700
TZNAME:PDT
DTSTART:20260308T100000
END:DAYLIGHT
BEGIN:STANDARD
TZOFFSETFROM:-0700
TZOFFSETTO:-0800
TZNAME:PST
DTSTART:20261101T090000
END:STANDARD
END:VTIMEZONE
BEGIN:VEVENT
DTSTART;TZID=America/Los_Angeles:20260322T130000
DTEND;TZID=America/Los_Angeles:20260322T150000
DTSTAMP:20260423T144117
CREATED:20260228T053752Z
LAST-MODIFIED:20260228T054045Z
UID:30650-1774184400-1774191600@vakaruvejai.com
SUMMARY:Los Andželo lietuvių bendruomenės metinė ataskaita\, Los Andželas
DESCRIPTION:LA lietuvių bendruomenė kviečia visus narius į mūsų metinę ataskaitą ir valdybos rinkimus kovo 22 13:00 parapijos apatinėje salėje. Ateikite sužinoti apie metų veiklą\, dalyvaukite diskusijoje\, susipažinkite su naujais valdybos kandidatais ir balsuokite! Bus lengvų vaišių.
URL:https://vakaruvejai.com/renginys/los-andzelo-lietuviu-bendruomenes-metine-ataskaita-los-andzelas/
LOCATION:Šv. Kazimiero parapijos salėje\, 2714 St. George St.\, Los Angeles\, CA\, 90027
CATEGORIES:Lietuviški renginiai,Los Andželas
ATTACH;FMTTYPE=image/jpeg:https://vakaruvejai.com/wp-content/uploads/2026/02/Metine-ataskaita-2026.jpg
END:VEVENT
BEGIN:VEVENT
DTSTART;TZID=America/Los_Angeles:20260315T150000
DTEND;TZID=America/Los_Angeles:20260315T170000
DTSTAMP:20260423T144117
CREATED:20260312T002716Z
LAST-MODIFIED:20260312T002716Z
UID:30690-1773586800-1773594000@vakaruvejai.com
SUMMARY:San Francisko lietuvių bendruomenės naujos valdybos rinkimai\, San Franciskas
DESCRIPTION:Atėjo metas rinkti naują Valdybą! Kviečiame visus\, kuriems rūpi mūsų bendruomenės ateitis\, dalyvauti rinkimuose ir\, jei norite\, prisijungti prie komandos.\nLaikas: kovo 15 d. 15 val.\nVieta: Oakwood Athletic Club\, 4000 Mount Diablo Blvd\, Lafayette\, CA 94549\nTaip pat per Zoom – Meeting ID: 692 727 5334\, Passcode: 339836\, https://tinyurl.com/SFLTkovas\nSuneštinės vaišės: atsineškite patiekalą pasidalinimui. Bus Agnės tortas!\nRegistracija (rekomenduojama): https://forms.gle/Jo6eqZUwYzqFU7nM9\nPo naujos Valdybos rinkimų bus rodomas filmas „Prezidentas“.\nKviečiame prisidėti!Jeigu norėtumėte:• padėti organizuoti renginius\,• įnešti naujų idėjų\,• prisidėti prie bendruomenės veiklos\,\n— mielai kviečiame jungtis ir kandidatuoti!\nKartu kuriame stiprią\, gyvą ir vieningą lietuvių bendruomenę San Franciske. Laukiame jūsų!
URL:https://vakaruvejai.com/renginys/san-francisko-lietuviu-bendruomenes-naujos-valdybos-rinkimai-san-franciskas/
LOCATION:Oakwood Athletic Club\, 4000 Mount Diablo Blvd\, Lafayette\, 94549
CATEGORIES:Lietuviški renginiai,San Franciskas
ATTACH;FMTTYPE=image/jpeg:https://vakaruvejai.com/wp-content/uploads/2026/03/636770024_906383115371822_3308368922224638321_n.jpg
END:VEVENT
BEGIN:VEVENT
DTSTART;TZID=America/Los_Angeles:20260311T190000
DTEND;TZID=America/Los_Angeles:20260311T200000
DTSTAMP:20260423T144117
CREATED:20260228T061034Z
LAST-MODIFIED:20260228T061752Z
UID:30664-1773255600-1773259200@vakaruvejai.com
SUMMARY:Tapkite Los Andželo lietuvių bendruomenės valdybos nariu\, Zoom platformoje
DESCRIPTION:TAPKITE LOS ANDŽELO LIETUVIŲ BENDRUOMENĖS VALDYBOS NARIU!\n\nAr Lietuva jums – daugiau nei vieta žemėlapyje? Jei širdis sušyla išgirdus lietuvišką žodį\, dainą ar juoką\, atėjo metas prisidėti prie LA lietuvių bendruomenės stiprinimo. Kviečiame susipažinti su valdybos veikla bei tapti komandos dalimi. Turite dvi puikias progas apie tai sužinoti daugiau:\nLALB linksmavalandis – kovo 14 d.\, šeštadienį\, 18:00-19:00 val.\, restorane „Solidarity“ Santa Monikoje. Vakarą vainikuos Vido Bareikio koncertas „Kur Nemunas teka”. Dalyvius vaišinsime vienu nemokamu gėrimu. Rasti daugiau informacijos apie koncertą bei įsigyti bilietus galite http://www.eventbrite.com/…/koncertas-ten-kur-nemunas…\nZoom pristatymas – kovo 11 d.\, trečiadienį\, 19:00 val. Prisijungimo nuoroda. https://zoom.us/j/9862258877\nIeškome komandos narių\, kurie:– padėtų organizuoti renginius – nuo idėjos iki įgyvendinimo;– prisidėtų prie renginių reklamos ir aprašymų kūrimo (labai ieškome bendruomenės narių galinčių sklandžiai rašyti lietuvių kalba);\n– atstovautų lietuvių bendruomenei įvairiuose renginiuose;– prisijungtų prie Lietuvių dienų organizacinio komiteto.\n\nTurite laiko\, energijos ir noro padėti? Tapkite mūsų komandos dalimi!\nSu klausimais kreiptis į Tarą Barauskaitę\, el. p.: tara@lalithuanians.org\n\nTurite laiko\, energijos ar noro padėti? Tikrai rasime jums tinkamą vietą komandoje!\nLaukiame jūsų!
URL:https://vakaruvejai.com/renginys/tapkite-los-andzelo-lietuviu-bendruomenes-valdybos-nariu-zoom-platformoje/
LOCATION:Virtualus renginys
CATEGORIES:Lietuviški renginiai,Los Andželas,Virtualus renginys
ATTACH;FMTTYPE=image/jpeg:https://vakaruvejai.com/wp-content/uploads/2026/02/629587070_1223507386656656_3609942035200704689_n.jpg
END:VEVENT
BEGIN:VEVENT
DTSTART;TZID=America/Los_Angeles:20220213T130000
DTEND;TZID=America/Los_Angeles:20220213T150000
DTSTAMP:20260423T144117
CREATED:20220206T033408Z
LAST-MODIFIED:20220212T003934Z
UID:19877-1644757200-1644764400@vakaruvejai.com
SUMMARY:Los Angeles Lietuvių Bendruomenės susirinkimas ir valdybos rinkimai\, Los Andželas
DESCRIPTION:Vasario 13 d. 1 val.p.p. įvyks Los Angeles Lietuvių Bendruomenės susirinkimas ir valdybos rinkimai. Maloniai kviečiame dalyvauti visus Los Andželo lietuvius.\nPo susirinkimo 3 val.p.p. kviečiame švęsti pasaulinę cepelinų dieną ir dideliame ekrane stebėti Superbowl rungtynes.
URL:https://vakaruvejai.com/renginys/los-angele-lietuviu-bendruomenes-susirinkimas-ir-valdybos-rinkimai-lis-andzelas/
LOCATION:Šv. Kazimiero parapija Los Andžele\, 2718 St George St\, Los Angeles\, CA\, 90027\, United States
CATEGORIES:Lietuviški renginiai,Los Andželas
ATTACH;FMTTYPE=image/jpeg:https://vakaruvejai.com/wp-content/uploads/2022/02/8AF8778A-CD9F-44F8-BD24-342A9635A20C.jpeg
END:VEVENT
END:VCALENDAR