BEGIN:VCALENDAR
VERSION:2.0
PRODID:-//Vakarų Vėjai - ECPv6.15.3//NONSGML v1.0//EN
CALSCALE:GREGORIAN
METHOD:PUBLISH
X-ORIGINAL-URL:https://vakaruvejai.com
X-WR-CALDESC:Vakarų Vėjai renginiai
REFRESH-INTERVAL;VALUE=DURATION:PT1H
X-Robots-Tag:noindex
X-PUBLISHED-TTL:PT1H
BEGIN:VTIMEZONE
TZID:America/Los_Angeles
BEGIN:DAYLIGHT
TZOFFSETFROM:-0800
TZOFFSETTO:-0700
TZNAME:PDT
DTSTART:20220313T100000
END:DAYLIGHT
BEGIN:STANDARD
TZOFFSETFROM:-0700
TZOFFSETTO:-0800
TZNAME:PST
DTSTART:20221106T090000
END:STANDARD
BEGIN:DAYLIGHT
TZOFFSETFROM:-0800
TZOFFSETTO:-0700
TZNAME:PDT
DTSTART:20230312T100000
END:DAYLIGHT
BEGIN:STANDARD
TZOFFSETFROM:-0700
TZOFFSETTO:-0800
TZNAME:PST
DTSTART:20231105T090000
END:STANDARD
BEGIN:DAYLIGHT
TZOFFSETFROM:-0800
TZOFFSETTO:-0700
TZNAME:PDT
DTSTART:20240310T100000
END:DAYLIGHT
BEGIN:STANDARD
TZOFFSETFROM:-0700
TZOFFSETTO:-0800
TZNAME:PST
DTSTART:20241103T090000
END:STANDARD
BEGIN:DAYLIGHT
TZOFFSETFROM:-0800
TZOFFSETTO:-0700
TZNAME:PDT
DTSTART:20250309T100000
END:DAYLIGHT
BEGIN:STANDARD
TZOFFSETFROM:-0700
TZOFFSETTO:-0800
TZNAME:PST
DTSTART:20251102T090000
END:STANDARD
END:VTIMEZONE
BEGIN:VEVENT
DTSTART;TZID=America/Los_Angeles:20250706T130000
DTEND;TZID=America/Los_Angeles:20250706T160000
DTSTAMP:20260423T143107
CREATED:20250704T162355Z
LAST-MODIFIED:20250704T162355Z
UID:29420-1751806800-1751817600@vakaruvejai.com
SUMMARY:Valstybės dienos - Lietuvos karaliaus Mindaugo karūnavimo - minėjimas ir šaltibarščių čempionatas\, San Diegas
DESCRIPTION:LT\n\nKviečiame visus į Valstybės dienos – Lietuvos karaliaus Mindaugo karūnavimo – minėjimą ir šaltibarščių čempionatą!\nKada? Liepos 6 d.\, sekmadienį\, 13:00 val.Kur? Fletcher Cove Beach ParkAdresas: 111 S Sierra Ave\, Solana Beach\, CA 92075(Yra nemokama stovėjimo aikštelė ir parkingas prie gatvės)\nAprangos kodas: rožinė\, žalia\, geltona\, raudona.\nMaistas: Šaltibarščiai Keptos bulvės – bus paruoštos\n⸻\nPROGRAMA:\n• Valstybės dienos paminėjimas• Tautiškos giesmės giedojimas kartu su lietuviais visame pasaulyje• Šaltibarščių čempionatas!\nJei norite varžytis dėl Šaltibarščių čempiono (-ės) titulo – atsineškite puodą savo geriausių šaltibarščių!Ragautojai ragaus\, balsuos ir išrinks skaniausius. Nugalėtojų laukia prizai!\n⸻\nDALYVAVIMO KAINA:Nemokamai:– visiems\, kurie atsineš savo šaltibarščius dalyvauti čempionate– visiems\, kurie prisidėjo metine solidarumo auka bendruomenei\nKitiems svečiams – $5\n⸻\nNepamirškite pasiimti:* pliažo kėdžių ir skėčių* žaidimų* saulės kremo* vandens\n\nEN\n\nYou’re invited to celebrate Lithuania’s Statehood Day – the Coronation of King Mindaugas – and join our Cold Beet Soup (Šaltibarščiai) Championship!\nWhen? Sunday\, July 6th at 1:00 PMWhere? Fletcher Cove Beach ParkAddress: 111 S Sierra Ave\, Solana Beach\, CA 92075(Free parking lot available\, as well as street parking)\nDress code: pink\, green\, yellow\, red\nFood: Cold beet soup (šaltibarščiai)Roasted potatoes will be provided\n⸻\nEVENT PROGRAM:\n• Commemoration of Lithuania’s Statehood Day• Singing of the National Anthem (together with Lithuanians around the world)• Šaltibarščiai Championship!\nBring a pot of your homemade cold beet soup and compete for the title of Šaltibarščiai Champion!Tasters will sample all soups and vote for the most delicious one. A prize awaits the winner!\n⸻\nADMISSION:Free for:– those who bring their own šaltibarščiai to compete– those who have contributed a yearly donation to the Lithuanian community\nAll other guests: $5\n⸻\nPlease bring:* beach chairs and umbrellas * games* sunscreen* water
URL:https://vakaruvejai.com/renginys/valstybes-dienos-lietuvos-karaliaus-mindaugo-karunavimo-minejimas-ir-saltibarsciu-cempionatas-san-diegas/
LOCATION:Fletcher Cove Beach Park\, 111 South Sierra Ave.\, Solana Beach\, CA\, 92075
CATEGORIES:Lietuviški renginiai,San Diego
ATTACH;FMTTYPE=image/jpeg:https://vakaruvejai.com/wp-content/uploads/2025/07/512699817_10221807684699777_3935711858813565213_n.jpeg
END:VEVENT
BEGIN:VEVENT
DTSTART;TZID=America/Los_Angeles:20220705T190000
DTEND;TZID=America/Los_Angeles:20220705T200000
DTSTAMP:20260423T143107
CREATED:20220629T102718Z
LAST-MODIFIED:20220629T102718Z
UID:22037-1657047600-1657051200@vakaruvejai.com
SUMMARY:Tautinės giesmės giedojimas Santa Monikoje\, Los Andželas
DESCRIPTION:Tęsiame gražią ir prasmingą tradiciją Valstybės dieną paminėti Santa Monikos paplūdimyje giedant Tautišką giesmę\, simboliškai prisijungiant prie per pasaulį vilnijančio vienybės tilto.\nRaginame pasipuošti  spalvomis bei atributika\, šypsenomis ir pakilia nuotaika!\n\n\nKada: 2022 m. liepos 5 d.\, pradžia 7 PM\nKur: prie Santa Monikos tilto gelbėtojų būdelės Nr. 16\n\n\nVardan tos Lietuvos vienybė težydi!
URL:https://vakaruvejai.com/renginys/tautines-giesmes-giedojimas-santa-monikoje-los-andzelas/
LOCATION:Santa Monikos paplūdimys prie 16-ojo gelbėtojų bokštelio
CATEGORIES:Lietuviški renginiai,Los Andželas
ATTACH;FMTTYPE=image/jpeg:https://vakaruvejai.com/wp-content/uploads/2022/06/289287007_395859575917360_8992213823759390804_n.jpeg
END:VEVENT
END:VCALENDAR