BEGIN:VCALENDAR
VERSION:2.0
PRODID:-//Vakarų Vėjai - ECPv6.15.3//NONSGML v1.0//EN
CALSCALE:GREGORIAN
METHOD:PUBLISH
X-ORIGINAL-URL:https://vakaruvejai.com
X-WR-CALDESC:Vakarų Vėjai renginiai
REFRESH-INTERVAL;VALUE=DURATION:PT1H
X-Robots-Tag:noindex
X-PUBLISHED-TTL:PT1H
BEGIN:VTIMEZONE
TZID:America/Los_Angeles
BEGIN:DAYLIGHT
TZOFFSETFROM:-0800
TZOFFSETTO:-0700
TZNAME:PDT
DTSTART:20230312T100000
END:DAYLIGHT
BEGIN:STANDARD
TZOFFSETFROM:-0700
TZOFFSETTO:-0800
TZNAME:PST
DTSTART:20231105T090000
END:STANDARD
END:VTIMEZONE
BEGIN:VEVENT
DTSTART;TZID=America/Los_Angeles:20230311T091500
DTEND;TZID=America/Los_Angeles:20230311T111500
DTSTAMP:20260423T193258
CREATED:20230224T193748Z
LAST-MODIFIED:20230311T074550Z
UID:23837-1678526100-1678533300@vakaruvejai.com
SUMMARY:MOVED TO A DIFFERENT LOCATION! HIKE to Celebrate Kovo 11\, San Diegas
DESCRIPTION:Due to likely rain on Saturday\, the 3/11 hike is replaced with a brunch at The Veranda Restaurant in Fallbrook. Meeting time 9:15am. \nThe Veranda Restaurant\n(760) 728-6466
URL:https://vakaruvejai.com/renginys/hike-to-celebrate-kovo-11-san-diegas/
LOCATION:The Veranda Restaurant\, 220 Grand Tradition Way\, Fallbrook\, CA\, 92028
CATEGORIES:Lietuviški renginiai,San Diego
ATTACH;FMTTYPE=image/jpeg:https://vakaruvejai.com/wp-content/uploads/2023/02/625CF89B-7345-4165-B80F-EBCA1BE33884-scaled.jpeg
END:VEVENT
END:VCALENDAR