BEGIN:VCALENDAR
VERSION:2.0
PRODID:-//Vakarų Vėjai - ECPv6.15.3//NONSGML v1.0//EN
CALSCALE:GREGORIAN
METHOD:PUBLISH
X-ORIGINAL-URL:https://vakaruvejai.com
X-WR-CALDESC:Vakarų Vėjai renginiai
REFRESH-INTERVAL;VALUE=DURATION:PT1H
X-Robots-Tag:noindex
X-PUBLISHED-TTL:PT1H
BEGIN:VTIMEZONE
TZID:America/Los_Angeles
BEGIN:DAYLIGHT
TZOFFSETFROM:-0800
TZOFFSETTO:-0700
TZNAME:PDT
DTSTART:20200308T100000
END:DAYLIGHT
BEGIN:STANDARD
TZOFFSETFROM:-0700
TZOFFSETTO:-0800
TZNAME:PST
DTSTART:20201101T090000
END:STANDARD
BEGIN:DAYLIGHT
TZOFFSETFROM:-0800
TZOFFSETTO:-0700
TZNAME:PDT
DTSTART:20210314T100000
END:DAYLIGHT
BEGIN:STANDARD
TZOFFSETFROM:-0700
TZOFFSETTO:-0800
TZNAME:PST
DTSTART:20211107T090000
END:STANDARD
BEGIN:DAYLIGHT
TZOFFSETFROM:-0800
TZOFFSETTO:-0700
TZNAME:PDT
DTSTART:20220313T100000
END:DAYLIGHT
BEGIN:STANDARD
TZOFFSETFROM:-0700
TZOFFSETTO:-0800
TZNAME:PST
DTSTART:20221106T090000
END:STANDARD
BEGIN:DAYLIGHT
TZOFFSETFROM:-0800
TZOFFSETTO:-0700
TZNAME:PDT
DTSTART:20230312T100000
END:DAYLIGHT
BEGIN:STANDARD
TZOFFSETFROM:-0700
TZOFFSETTO:-0800
TZNAME:PST
DTSTART:20231105T090000
END:STANDARD
END:VTIMEZONE
BEGIN:VEVENT
DTSTART;TZID=America/Los_Angeles:20230211T140000
DTEND;TZID=America/Los_Angeles:20230211T160000
DTSTAMP:20260423T161922
CREATED:20230121T213902Z
LAST-MODIFIED:20230121T214306Z
UID:23488-1676124000-1676131200@vakaruvejai.com
SUMMARY:Vasario 16-oji su cepelinais ir protų mūšiu\, San Diegas
DESCRIPTION:Kviečiame visus paminėti Lietuvos valstybės atkūrimo dieną Vasario 16-ąją!\nSkanausime cepelinus ir susirungsime protų mūšyje apie Lietuvą. \nKaina- $15\nZelle: sandiegolietuviai@gmail.com \n🇱🇹🇱🇹🇱🇹🇱🇹🇱🇹🇱🇹🇱🇹🇱🇹🇱🇹🇱🇹🇱🇹🇱🇹🇱🇹🇱🇹🇱🇹 \nCome celebrate Independence Day with cepelinai and battle of the minds about Lithuania \nTickets – $15\nZelle: sandiegolietuviai@gmail.com
URL:https://vakaruvejai.com/renginys/vadario-16-oji-su-cepelinais-ir-protu-musiu-san-diegas/
LOCATION:1197 Whispering Water Dr\, San Marcos
CATEGORIES:Lietuviški renginiai,San Diego
ATTACH;FMTTYPE=image/jpeg:https://vakaruvejai.com/wp-content/uploads/2023/01/76B57302-266D-4BEF-AAB4-0B1C56A39EC0.jpeg
END:VEVENT
BEGIN:VEVENT
DTSTART;TZID=America/Los_Angeles:20220306T123000
DTEND;TZID=America/Los_Angeles:20220306T133000
DTSTAMP:20260423T161922
CREATED:20220226T002618Z
LAST-MODIFIED:20220226T002618Z
UID:20224-1646569800-1646573400@vakaruvejai.com
SUMMARY:Vasario 16-osios ir Kovo 11-osios minėjimai Los Andžele\, Los Andželas
DESCRIPTION:Kviečiame visus lietuvius iškilmingai paminėti Napriklausomybės šventes: Vasario 16-ąją ir Kovo 11-ąją. \nRenginio prelegatė – generalinė konsulė Laima Jurevičienė. \nMeninę dalį atliks pianistas Rudolfas Budginas. \nPo minėjimo vaišės ir pabendravimas su prelegate. \nĮėjimas nemokamas. \nParemkime bendruomenės darbus dosniomis aukomis.
URL:https://vakaruvejai.com/renginys/vasario-16-osios-ir-kovo-11-osios-minejimai-los-andzele-los-andzelas/
LOCATION:Šv. Kazimiero parapija Los Andžele\, 2718 St George St\, Los Angeles\, CA\, 90027\, United States
CATEGORIES:Lietuviški renginiai,Los Andželas
ATTACH;FMTTYPE=image/png:https://vakaruvejai.com/wp-content/uploads/2022/02/Screen-Shot-2022-02-25-at-4.22.48-PM.png
END:VEVENT
BEGIN:VEVENT
DTSTART;TZID=America/Los_Angeles:20220219T160000
DTEND;TZID=America/Los_Angeles:20220219T190000
DTSTAMP:20260423T161922
CREATED:20220119T183645Z
LAST-MODIFIED:20220119T185620Z
UID:19727-1645286400-1645297200@vakaruvejai.com
SUMMARY:Vasario 16-osios minėjimo šventė\, San Franciskas
DESCRIPTION:Kviečiame Vasario 16-ąją paminėti ypatingai! \nŠią svarbią lietuviams dieną kviečiame jus į 1918 metų degustacinę vakarienę. Meniu sudarytas pagal to meto aukštuomenės valgytus patiekalus. Šventinės vakarienės patiekalus ruoš profesionalus šefas Audrius Kukšta\, kuris atvyks iš Lietuvos būtent šiai progai. Vynus prie patiekalų derins profesionalus somelier. \nData: 2022 m. vasario 19 d. 16 val.\nVieta: „Broadway Grill” restoranas\, 1400 Broadway\, Burlingame \nJūsų lauks:\n 5 degustacinių patiekalų vakarienė\n 4 vynai suderinti prie patiekalų (pasirinktinai)\n Muzika pagal 1918 m. Vilniaus Teatro programos repertuarą\n Vakaro šokiai su DJ\n Kitos staigmenos \n Kainos:\nŠventinė vakarienė – $65\nŠventinė vakarienė + vynai – $100\nNuo vasario 1 d.:\nŠventinė vakarienė – $75\nŠventinė vakarienė + vynai – $115 \n Vaikams:\nJūsų vaikams bus skirta atskira erdvė su „aukle”. Jiems bus galimybės pasirinkti 1 patiekalą iš 3 iš vaikų meniu.\nKaina: $20. \nPavedimai: \nPayPal\, Venmo\, Zelle\, CashApp\, adresuojant į: info@sflithuanians.com arba @SfLithuanians.\nTaip pat galite mokėti per Donations nuorodą spaudžiant “Find Tickets“ mygtuką. \n Vietų skaičius ribotas\, tad kviečiame kuo anksčiau įsigyti bilietus. \nApranga:\nŠventinė apranga.\nKviečiame pasipuošti ir lietuviška atributuka\, trispalvėmis spalvomis ar XX a. pradžios mados elementais. \nTruputėlį plačiau apie šefą Audrių Kukštą:\nJis profesionalo karjerą pradėjo 2002 m. Londone baigė kulinarijos mokslus. Dirbo geriausiuose Didžiosios Britanijos\, Šiaurės Airijos ir Olandijos restoranuose. Šiuo metu Lietuvoje dirba privačiu virtuvės šefu. Taip pat jis buvo „Lietuvos ryto“ televizijos laidos „Grilio skanėstai“ vedėjas. Audrius Kukšta suteikia galimybę mėgautis naujausiais\, gastronomijos pasaulio tendencijas atspindinčiais patiekalais. \nRenginys vyks BROADWAY GRILL – tai nuostabus restoranas esantis šalia Hillsborough ir priklausantis lietuviams Astai ir Džiugui.\nDaugiau apie restoraną čia. \nKviečiame jus apsistoti aristoktariškame viešbutyje   PALACE HOTEL  pačioje San Francisko širdyje.\nData: iš vasario 19 į 20 d.\nSpecialus pasiūlymas galioja iki sausio  29 d.\nPasiūlymas čia.\nDaugiau apie viešbutį čia. \nLaukiame jūsų šventėje!
URL:https://vakaruvejai.com/renginys/vasario-16-osios-minejimo-svente-san-franciskas/
LOCATION:Broadway Grill\, 1400 Broadway\, Burlingame\, CA\, 94010\, Jungtinės Amerikos Valstijos
CATEGORIES:Lietuviški renginiai,San Franciskas
ATTACH;FMTTYPE=image/png:https://vakaruvejai.com/wp-content/uploads/2022/01/Screen-Shot-2022-01-19-at-10.16.58-AM.png
END:VEVENT
BEGIN:VEVENT
DTSTART;TZID=America/Los_Angeles:20210220T090000
DTEND;TZID=America/Los_Angeles:20210220T100000
DTSTAMP:20260423T161922
CREATED:20210209T035624Z
LAST-MODIFIED:20210219T210957Z
UID:15126-1613811600-1613815200@vakaruvejai.com
SUMMARY:JAV LB Švietimo Tarybos Vasario 16-osios minėjimas "Tegul skamba mūsų dainos po šalis plačiausias"\, Virtualus renginys
DESCRIPTION:Mielieji\, kviečiame kartu švęsti ir išdainuoti Vasario 16-ąją! Kviečiame nedvejoti ir palaikyti šią iniciatyvą\, tapti jos dalimi. Renginys bus transliuojamas per Zoom programą ir Youtube kanalu. \nSusitikimas vyks Zoom platformoje\, prisijungimo ID: 912 7024 0865\, slaptažodis: 683924. Trukmė – 1 val.\n \nDainos bus dainuojamos iš šio  DAINYNO \nŠventės dalyviai:\nJAV lituanistinės mokyklos-20\nOslo lietuvių bendruomenės folkloro ansamblis “Gabija”\,\nOslo lituanistinės mokyklos “Gintaras” vaikų folkloro ansamblis“Gintarėliai”\,\nBelgijos lietuvių bendruomenė\,\nSakartvelo technikos universiteto Lietuvos kalbos ir kultūros centras\,\nVilniaus Vytauto Didžiojo gimnazija. Alumnų choras “Post scriptum“. \nJAV LB Švietimo Taryba
URL:https://vakaruvejai.com/renginys/jav-lb-svietimo-tarybos-vasario-16-osios-minejimas-virtualus-renginys/
LOCATION:Virtualus renginys
CATEGORIES:Arizona,Hawaii,Lietuviški renginiai,Los Andželas,Nevada,Portlandas,San Diego,San Franciskas,Seattle,Virtualus renginys
ATTACH;FMTTYPE=image/jpeg:https://vakaruvejai.com/wp-content/uploads/2021/02/B428DE03-13C1-4F4A-97BA-7777B8625F15.jpeg
END:VEVENT
BEGIN:VEVENT
DTSTART;TZID=America/Los_Angeles:20210214T100000
DTEND;TZID=America/Los_Angeles:20210214T120000
DTSTAMP:20260423T161922
CREATED:20210207T063921Z
LAST-MODIFIED:20210212T014417Z
UID:15120-1613296800-1613304000@vakaruvejai.com
SUMMARY:Valstybės atkūrimo diena Los Andžele
DESCRIPTION:JAV Lietuvių Bendruomenės Los Angeles apylinkė kviečia į Valstybės atkūrimo dienos proga rengiamas klebono Tomo Karanausko aukojamas šv. Mišias\, kurios vyks 2021 m. vasario 14 d. 10 val. ryto Los Angeles šv. Kazimiero parapijoje. \nPo šv. Mišių vyks vėliavų pakėlimas\, galėsime pasiklausyti smuikininkės Gretos Veličkaitės bei kompozitoriaus\, parapijos vargonininko Kęstučio Daugirdo atliekamų lietuviškų dainų\, o taip pat prisijungsime prie pasaulio lietuvių iniciatyvos ir su trispalvėmis įsiamžinsime bendroje fotosesijoje. \nDėmesio! Laikantis visų saugumo reikalavimų\, renginys vyks lauke\, tad prašome šiltai apsirengti. Renginys nemokamas. \nBūtina išankstinė registracija: tel. Nr. +1 323-664-4660\narba https://www.eventbrite.com/e/valstybes-atkurimo-diena-los-andzele-tickets-140020449935 \nNepamirškite pasipuošti lietuviška atributika!
URL:https://vakaruvejai.com/renginys/valstybes-atkurimo-diena-los-andzele/
LOCATION:Šv. Kazimiero parapija Los Andžele\, 2718 St George St\, Los Angeles\, CA\, 90027\, United States
CATEGORIES:Lietuviški renginiai,Los Andželas
ATTACH;FMTTYPE=image/jpeg:https://vakaruvejai.com/wp-content/uploads/2021/02/LT-FCB-v16-6.jpg
END:VEVENT
BEGIN:VEVENT
DTSTART;TZID=America/Los_Angeles:20210213T190000
DTEND;TZID=America/Los_Angeles:20210213T200000
DTSTAMP:20260423T161922
CREATED:20210206T015753Z
LAST-MODIFIED:20210206T072806Z
UID:15103-1613242800-1613246400@vakaruvejai.com
SUMMARY:103rd Anniversary of Restored Statehood of Lithuania\, Seattle
DESCRIPTION:EN\n\nPlease join our community online in celebrating the 103rd anniversary of Lithuania’s February 16th declaration of Independence. Meeting: https://spu.zoom.us/j/94128381059\n\nOur program includes:\n• virtual anthem singing by community members\n• dignitary greetings\n• presentation by the students of Linas Lithuanian School\n• dramatic interpretation of a passage from a Lithuanian novel\n• polyphonic harmonies from a trio of Seattle songstresses\n• „Vakarai” choir and „Lietutis” dance troupe performances\n• „Lietuva Brangi” (My Dear Lithuania) \nLT \nKviečiame į Lietuvos Nepriklausomybės 103-iųjų metinių Vasario 16-tos šventę. Minėjimas vyks virtualiai\, https://spu.zoom.us/j/94128381059 \nProgramoje:\n• Lietuvos himnas atliekamas Washington valstijos lietuvių bendruomenės narių\n• Garbingų svečių sveikinimai\n• Sietlo Lino lituanistinės mokyklos sveikinimas\n• Sietlo „Vakarų” choro pasirodymas\n• Ištrauka iš Žemaitės romano „Marti” ir sutartinė atliekama „Trys Sietlo Marčios”\n• Sietlo „Lietučio” šokių grupės pasirodymas\n• Lietuva Brangi \nIki greito pasimatymo!
URL:https://vakaruvejai.com/renginys/feb-16th-independence-celebration-vasario-16-tos-nepriklausomybes-svente-sietlas-virtualus-renginys/
LOCATION:Virtualus renginys
CATEGORIES:Seattle,Virtualus renginys
ATTACH;FMTTYPE=image/jpeg:https://vakaruvejai.com/wp-content/uploads/2021/02/146946615_3872077182812769_6632843377504314295_n.jpg
END:VEVENT
BEGIN:VEVENT
DTSTART;TZID=America/Los_Angeles:20200229T170000
DTEND;TZID=America/Los_Angeles:20200229T200000
DTSTAMP:20260423T161922
CREATED:20200113T082036Z
LAST-MODIFIED:20200218T064539Z
UID:10895-1582995600-1583006400@vakaruvejai.com
SUMMARY:Lietuvos Nepriklausomybės Šventė/Lithuanian Independence Day\, Portland\, OR
DESCRIPTION:Maloniai pranešame\, kad švęsime Lietuvos Respublikos Nepriklausomybės minėjimą\nskirtą vasario 16 d. ir kovo 11 d. įvykiams atminti. \nMinėjimo PROGRAMA:\n– Atidarymas – LIETUVOS IR JAV HIMNŲ GIEDOJIMAS\n– Garbės svečių sveikinimo žodžiai\n– Prelegentas: VIDMANTAS VALIUŠAITIS\, Lietuvos filologas\, žurnalistas\, publicistas\, politikos ir kultūros apžvalgininkas\, redaktorius ir visuomenės veikėjas. \nLinksmosios dalies programa:\n– Portlando šokių grupė „Aitvaras”\n– Portlando lituanistinė mokykla „Atžalynas”\n– Seattle bendruomenės choras „Vakarai”. \nSuneštinės vaišės:\nPrašome\, atsineškite pagrindinį patiekalą ir desertą. Kava\, arbata ir nealkoholiniai gėrimai bus pateikti. Jei pageidaujate\, atsineškite savo vyną\, alų ar/ir pan. \nAukos bendruomenei:\nMūsų bendruomenės gyvybingumas paremtas Jūsų aktyviu dalyvavimu bei dosniomis aukomis! \nŠventės metu rinksime JAV Lietuvių bendruomenės metinį solidarumo įnašą bei aukas Portlando ir JAV bendruomenėms. Šie įnašai padeda išlaikyti Portlando apylinkės\, kuri apima Oregono ir Pietvakarių Vašingtono lietuvius\, veiklą ir taipogi prisideda prie JAV Lietuvių bendruomenės skatinimo. Surinktos lėšos suteikia galimybę organizuoti renginius\, nuomotis patalpas bei padengti išlaidas susijusias su bendruomenės veikla. Tad esame labai dėkingi už Jūsų dosnumą! \nJei šventėje nedalyvausite\, savo įnašus galite siųsti per PayPal http://paypal@portlandlithuanians.com arba paštu Portland LAC\, c/o Inga Kozhevnikov adresu: 3744 NW 19th Cir\, Camas\, WA 98607. \nSOLIDARUMO ĮNAŠAS\n$20 / žmogui (18+) \nJei turite klausimų ar pasiūlymų\, prašome kreipkitės info@portlandlithuanians.com arba tel: (360) 904-4032. \nJAV Lietuvių Bendruomenės Portlando apylinkės valdyba \n******** \nLithuanian Independence Day Celebration \nPlease\, mark your calendars for the Lithuanian Independence Day Celebration. \nPROGRAM:\n– Opening with singing of the National Anthems of Lithuania and USA\n– Greetings\n– Keynote speaker: VIDMANTAS VALIUŠAITIS\, Lithuanian philologist\, journalist\, publicist\, political and cultural reviewer\, editor and public figure.\n– Portland Lithuanian dance group „Aitvaras”\n– Portland Lithuanian heritage school „Atžalynas”\n– Seattle Lithuanian community choir „Vakarai”. \nCommunity Potluck:\nPlease\, bring a main dish and dessert. Coffee\, tea and non-alcoholic beverages will be provided. Feel free to BYO wine and beer if desired. \nDonations:\nThe existence of our community relies on your active participation and your generous donations! \nDuring the celebration we will be collecting annual Lithuanian-American Community (LAC\, Inc.) solidarity dues. Your contributions help keep the LAC Portland chapter (which covers Oregon and Northwest Washington Lithuanians) alive and also help support the LAC\, Inc. The funds enable us to organize events and gatherings\, rent space and cover any other community related expenses. We truly appreciate your generosity! \nIf you are unable to attend the event please consider sending your donation via PayPal http://paypal@portlandlithuanians.com or by mail to the community treasurer Inga Kozhevnikov\, address: 3744 NW 19th Cir\, Camas\, WA 98607. Please\, make the checks payable to Portland LAC. \nSOLIDARITY DUES\n$20 / adult (18+) \nIf you have any questions please feel free to contact us at info@portlandlithuanians.com or (360) 904-4032 \nLAC Portland Chapter Board
URL:https://vakaruvejai.com/renginys/lietuvos-nepriklausomybes-svente-lithuanian-independence-day/
LOCATION:pin 	 5500 SW Dosch Rd\, Portland\, OR 97239-1151\, 5500 SW Dosch Rd\,\, Portland\, OR\, 97239-1151\, United States
CATEGORIES:Lietuviški renginiai,Portlandas
ATTACH;FMTTYPE=image/jpeg:https://vakaruvejai.com/wp-content/uploads/2020/01/Vasario16.jpg
END:VEVENT
BEGIN:VEVENT
DTSTART;TZID=America/Los_Angeles:20200216T120000
DTEND;TZID=America/Los_Angeles:20200216T160000
DTSTAMP:20260423T161922
CREATED:20200214T215231Z
LAST-MODIFIED:20200214T215231Z
UID:11406-1581854400-1581868800@vakaruvejai.com
SUMMARY:Lithuanian Independence Day Celebration-2020\, Hawaii
DESCRIPTION:Gerbiama Lietuvių bendruomene! Vasario 16-tą maloniai kviečiame paminėti Lietuvos Nepriklausomybės dieną!\nDear friends\, please join us in celebration of Lithuanian Independence Day!\n• Please bring your favorite Lithuanian dish to share and BYOB.\n(to make sure that there is better variety\, please note in the comments section what you’re bringing – ačiū!)\n• Parking available downstairs across from Foodland
URL:https://vakaruvejai.com/renginys/lithuanian-independence-day-celebration-2020-hawaii/
LOCATION:Lithuanian Community of Hawaii\, Park Lane Ala Moana\, 1388 Ala Moana Blvd\,\, Honolulu\, Hawaii\, 96814\, Jungtinės Amerikos Valstijos
CATEGORIES:Hawaii,Lietuviški renginiai
ATTACH;FMTTYPE=image/jpeg:https://vakaruvejai.com/wp-content/uploads/2020/02/83739439_10220752837440603_1124130109733732352_o-scaled.jpg
END:VEVENT
BEGIN:VEVENT
DTSTART;TZID=America/Los_Angeles:20200216T120000
DTEND;TZID=America/Los_Angeles:20200216T150000
DTSTAMP:20260423T161922
CREATED:20200214T220336Z
LAST-MODIFIED:20200214T220336Z
UID:11413-1581854400-1581865200@vakaruvejai.com
SUMMARY:Lietuvos nepriklausomybės atkūrimo žygis\, San Diego
DESCRIPTION:Kviečiame visus lietuvius ir jiems prijaučiančius į žygį\, skirtą Lietuvos nepriklausomybės atkūrimo dienai – Vasario 16-ajai paminėti!  \nŽygiuosime Blue Sky Reserve trail\, kuris yra tinkamas nuo mažiausio (pravažiuojamas vežimėliais) iki vyriausio! Atstumas pirmyn atgal 2.5 mylios. Žygiuosime neskubėdami\, pusiaukelėje sustosime atsikvėpti pikniko zonoje ir keliausime atgal!\nPikniko vaišės suneštinės. \nŽygio spalvos – geltona\, žalia ir raudona  \nRenkamės vasario 16 d. 12 val. automobilių stovėjimo aikštelės gale\, šalia trailo stendo. \nAdresas:\nBlue Sky Ecological Reserve\n16275 Espola Road\nPoway\, CA 92064
URL:https://vakaruvejai.com/renginys/lietuvos-nepriklausomybes-atkurimo-zygis-san-diego/
LOCATION:Blue Sky Ecological Reserve\, 16275 Espola Road\, Poway\, CA\, 92064\, Jungtinės Amerikos Valstijos
CATEGORIES:Lietuviški renginiai,San Diego
ATTACH;FMTTYPE=image/jpeg:https://vakaruvejai.com/wp-content/uploads/2020/02/real_is_beautiful_149573819259272750975db-scaled-e1581574529434.jpg
END:VEVENT
END:VCALENDAR