BEGIN:VCALENDAR
VERSION:2.0
PRODID:-//Vakarų Vėjai - ECPv6.15.3//NONSGML v1.0//EN
CALSCALE:GREGORIAN
METHOD:PUBLISH
X-ORIGINAL-URL:https://vakaruvejai.com
X-WR-CALDESC:Vakarų Vėjai renginiai
REFRESH-INTERVAL;VALUE=DURATION:PT1H
X-Robots-Tag:noindex
X-PUBLISHED-TTL:PT1H
BEGIN:VTIMEZONE
TZID:America/Los_Angeles
BEGIN:DAYLIGHT
TZOFFSETFROM:-0800
TZOFFSETTO:-0700
TZNAME:PDT
DTSTART:20220313T100000
END:DAYLIGHT
BEGIN:STANDARD
TZOFFSETFROM:-0700
TZOFFSETTO:-0800
TZNAME:PST
DTSTART:20221106T090000
END:STANDARD
BEGIN:DAYLIGHT
TZOFFSETFROM:-0800
TZOFFSETTO:-0700
TZNAME:PDT
DTSTART:20230312T100000
END:DAYLIGHT
BEGIN:STANDARD
TZOFFSETFROM:-0700
TZOFFSETTO:-0800
TZNAME:PST
DTSTART:20231105T090000
END:STANDARD
BEGIN:DAYLIGHT
TZOFFSETFROM:-0800
TZOFFSETTO:-0700
TZNAME:PDT
DTSTART:20240310T100000
END:DAYLIGHT
BEGIN:STANDARD
TZOFFSETFROM:-0700
TZOFFSETTO:-0800
TZNAME:PST
DTSTART:20241103T090000
END:STANDARD
BEGIN:DAYLIGHT
TZOFFSETFROM:-0800
TZOFFSETTO:-0700
TZNAME:PDT
DTSTART:20250309T100000
END:DAYLIGHT
BEGIN:STANDARD
TZOFFSETFROM:-0700
TZOFFSETTO:-0800
TZNAME:PST
DTSTART:20251102T090000
END:STANDARD
END:VTIMEZONE
BEGIN:VEVENT
DTSTART;VALUE=DATE:20250713
DTEND;VALUE=DATE:20250727
DTSTAMP:20260423T161924
CREATED:20250607T051831Z
LAST-MODIFIED:20250607T070024Z
UID:29264-1752364800-1753574399@vakaruvejai.com
SUMMARY:Stovykla Rambynas 2025 "Gerasis Mazgas"\, Holcomb slėnis
DESCRIPTION:Registracija į vasaros skautų stovyklą jau prasidėjo. Stovykla vyks liepos 13 – liepod 26 dienomis. \nREGISTRUOTIS
URL:https://vakaruvejai.com/renginys/stovykla-rambynas-2025-gerasis-mazgas-holcomb-slenis/
LOCATION:Rambyno stovykla\, Holcomb Valley
CATEGORIES:Lietuviški renginiai
ATTACH;FMTTYPE=image/jpeg:https://vakaruvejai.com/wp-content/uploads/2025/06/503993843_1147445970749677_6168716430578842807_n.jpeg
END:VEVENT
BEGIN:VEVENT
DTSTART;VALUE=DATE:20220717
DTEND;VALUE=DATE:20220731
DTSTAMP:20260423T161924
CREATED:20220116T174435Z
LAST-MODIFIED:20220701T060608Z
UID:19708-1658016000-1659225599@vakaruvejai.com
SUMMARY:Skautų vasaros stovykla Rambynas\, Holcomb Valley\, CA
DESCRIPTION:LT  \n2022 RVR Rambyno stovykla vyks sekmadienį\, 7/17 – šeštadienį 7/30.\nDaugiau informacijos bus paskelbta mūsų svetainėje: www.rvrskautai.org \nEN \n2022 RVR Rambynas camp will be taking place Sunday\, 07/17 – Saturday 07/30\nMore information will be posted on our website: www.rvrskautai.org
URL:https://vakaruvejai.com/renginys/skautu-vasaros-stovykla-rambynas-holcomb-valley/
LOCATION:Rambyno stovykla\, Holcomb Valley
ATTACH;FMTTYPE=image/jpeg:https://vakaruvejai.com/wp-content/uploads/2022/01/0DA13A72-13CE-4FF1-B381-D46AF520B995.jpeg
END:VEVENT
BEGIN:VEVENT
DTSTART;TZID=America/Los_Angeles:20220122T180000
DTEND;TZID=America/Los_Angeles:20220122T190000
DTSTAMP:20260423T161924
CREATED:20220114T211423Z
LAST-MODIFIED:20220114T211423Z
UID:19588-1642874400-1642878000@vakaruvejai.com
SUMMARY:LISS Lithuanian Summer Internship Program Presentation\, Virtual event
DESCRIPTION:Join us for a unique and special online presentation about this 5 week Lithuanian summer internship program.  Now in its 10th year of operation\, LISS is an intensive cultural program organized by the Lithuanian American Community (LAC) for university students of Lithuanian descent in the United States and Canada.  Two prior participants will share their experiences from their internships in Lithuania.  Our presenters are prior LISS program interns Gabija Stankevičiūtė and Lukas Urbonavičius.  The presentation will be conducted in English.  Registration is not required.  Join us by using this Zoom link at https://washington.zoom.us/j/98832030564.
URL:https://vakaruvejai.com/renginys/liss-lithuanian-summer-internship-program-presentation-virtual-event/
LOCATION:Virtual event
CATEGORIES:Arizona,Hawaii,Los Andželas,Nevada,Portlandas,San Diego,San Franciskas,Seattle,Virtualus renginys
ATTACH;FMTTYPE=image/jpeg:https://vakaruvejai.com/wp-content/uploads/2022/01/IMG_20190629_112725-1-1024x768-1.jpg
END:VEVENT
END:VCALENDAR