BEGIN:VCALENDAR
VERSION:2.0
PRODID:-//Vakarų Vėjai - ECPv6.15.3//NONSGML v1.0//EN
CALSCALE:GREGORIAN
METHOD:PUBLISH
X-WR-CALNAME:Vakarų Vėjai
X-ORIGINAL-URL:https://vakaruvejai.com
X-WR-CALDESC:Vakarų Vėjai renginiai
REFRESH-INTERVAL;VALUE=DURATION:PT1H
X-Robots-Tag:noindex
X-PUBLISHED-TTL:PT1H
BEGIN:VTIMEZONE
TZID:America/Los_Angeles
BEGIN:DAYLIGHT
TZOFFSETFROM:-0800
TZOFFSETTO:-0700
TZNAME:PDT
DTSTART:20210314T100000
END:DAYLIGHT
BEGIN:STANDARD
TZOFFSETFROM:-0700
TZOFFSETTO:-0800
TZNAME:PST
DTSTART:20211107T090000
END:STANDARD
BEGIN:DAYLIGHT
TZOFFSETFROM:-0800
TZOFFSETTO:-0700
TZNAME:PDT
DTSTART:20220313T100000
END:DAYLIGHT
BEGIN:STANDARD
TZOFFSETFROM:-0700
TZOFFSETTO:-0800
TZNAME:PST
DTSTART:20221106T090000
END:STANDARD
BEGIN:DAYLIGHT
TZOFFSETFROM:-0800
TZOFFSETTO:-0700
TZNAME:PDT
DTSTART:20230312T100000
END:DAYLIGHT
BEGIN:STANDARD
TZOFFSETFROM:-0700
TZOFFSETTO:-0800
TZNAME:PST
DTSTART:20231105T090000
END:STANDARD
BEGIN:DAYLIGHT
TZOFFSETFROM:-0800
TZOFFSETTO:-0700
TZNAME:PDT
DTSTART:20240310T100000
END:DAYLIGHT
BEGIN:STANDARD
TZOFFSETFROM:-0700
TZOFFSETTO:-0800
TZNAME:PST
DTSTART:20241103T090000
END:STANDARD
BEGIN:DAYLIGHT
TZOFFSETFROM:-0800
TZOFFSETTO:-0700
TZNAME:PDT
DTSTART:20250309T100000
END:DAYLIGHT
BEGIN:STANDARD
TZOFFSETFROM:-0700
TZOFFSETTO:-0800
TZNAME:PST
DTSTART:20251102T090000
END:STANDARD
END:VTIMEZONE
BEGIN:VEVENT
DTSTART;TZID=America/Los_Angeles:20250622T170000
DTEND;TZID=America/Los_Angeles:20250622T220000
DTSTAMP:20260423T125947
CREATED:20250620T213911Z
LAST-MODIFIED:20250620T213911Z
UID:29295-1750611600-1750629600@vakaruvejai.com
SUMMARY:Joninės\, San Franciskas
DESCRIPTION:Kviečiame į SF lietuvių jaunimo organizuojamas JONINES!\nPrisijunkite prie šventės su draugais ir bendruomene – degs laužas\, žaisime žaidimus\, džiaugsimės vasaros saulėgrįža ir lietuviškomis tradicijomis!\nKada: sekmadienį\, birželio 22 d.\, 17:00–22:00 (5–10 pm)Kur: Ocean Beach\, San Franciskas\, tarp laiptų 15–20Tiksli vieta paaiškės tik atvykus birželio 22 d.\, nes laužavietę galima užimti tik tą pačią dieną. Ieškokite Lietuvos vėliavos!\nPrograma:17:00 – kviečiame rinktis\, pabendrauti\, papiknikauti ir pažaisti žaidimų kartu.21:30 – pagal pliažo taisykles reikia gesinti laužą.22:00 – uždaroma automobilių stovėjimo aikštelė.\nPliažo taisyklės:No glass or alcohol allowed on the beach\nBūtina: susitvarkyti po renginio ir išsinešti visas šiukšles!\nKą atsinešti:Žaidimų paplūdimyje: bocce ball\, spike ball\, frisbee\nMaisto piknikui ir dešrelių kepimui ant laužo\nGėrimų (tik ne stiklo taroje)\nŠiltų rūbų – saulei leidžiantis pliaže bus ŠALTA!\nSulankstomų kėdžių arba kilimėlių atsisėsti ant smėlio\nKlausimus siųskite žinute:Marius Tali – (650) 235-6578
URL:https://vakaruvejai.com/renginys/jonines-san-franciskas-4/
LOCATION:Ocean Beach\, San Franciskas\, tarp laiptų 15–20
CATEGORIES:Lietuviški renginiai,San Franciskas
ATTACH;FMTTYPE=image/jpeg:https://vakaruvejai.com/wp-content/uploads/2025/06/494375755_709752665034869_2072258225502375335_n.jpeg
END:VEVENT
BEGIN:VEVENT
DTSTART;TZID=America/Los_Angeles:20250622T150000
DTEND;TZID=America/Los_Angeles:20250622T190000
DTSTAMP:20260423T125947
CREATED:20250512T145232Z
LAST-MODIFIED:20250512T145232Z
UID:29074-1750604400-1750618800@vakaruvejai.com
SUMMARY:Joninės Los Andžele su gyva muzika / Midsummer Celebration in Los Angeles with Live Music
DESCRIPTION:🇱🇹: Artėjant ilgiausiai metų dienai ir trumpiausiai nakčiai\, kviečiame visus Los Andželo lietuvius susiburti ir kartu švęsti Jonines! 🌿 \nRenginio programoje:\nGyva muzika ir Eriko Petraičio koncertas\, dainos\, šokiai\, žaidimai ir vainikų pynimas. \n📅 Sekmadienis\, birželio 22 d.\n🕒 15:00 – 19:00 val.\n📍 Burton Chase Park (13650 Mindanao Way\, Marina Del Rey\, CA 90292)\n🎟️ Renginys nemokamas\n🚘 Mokama automobilių stovėjimo aikštelė – $10\n🥤 Atsineškite užkandžių ir gėrimų sau ir kaimynui! \n~~~~~~~~~~~~ \n🇺🇸: As the longest day and shortest night of the year approach\, we warmly invite all Lithuanians in Los Angeles to gather and celebrate Joninės together! 🌿 \nWhat to Expect:\nLive music and a concert by Erikas Petraitis\, singing\, dancing\, fun games\, and flower crown weaving. \n📅 Sunday\, June 22\n🕒 3:00 PM – 7:00 PM\n📍 Burton Chase Park (13650 Mindanao Way\, Marina Del Rey\, CA 90292)\n🎟️ Event is free of charge\n🚘 Paid parking available – $10 per vehicle\n🥤 Bring snacks and drinks for yourself—and to share with a neighbor!
URL:https://vakaruvejai.com/renginys/jonines-los-andzele-su-gyva-muzika-midsummer-celebration-in-los-angeles-with-live-music/
LOCATION:Burton Chase Park\, 13650 Mindanao Bay\, Marina del Rey\, CA\, 90292
CATEGORIES:Lietuviški renginiai,Los Andželas
ATTACH;FMTTYPE=image/jpeg:https://vakaruvejai.com/wp-content/uploads/2025/05/IMG_2657.jpeg
END:VEVENT
BEGIN:VEVENT
DTSTART;TZID=America/Los_Angeles:20250621T130000
DTEND;TZID=America/Los_Angeles:20250621T200000
DTSTAMP:20260423T125947
CREATED:20250426T125118Z
LAST-MODIFIED:20250426T125118Z
UID:28978-1750510800-1750536000@vakaruvejai.com
SUMMARY:Baltos Joninės/Midsummer festival\, San Diegas
DESCRIPTION:Mieli San Diego lietuviai\,\nNuoširdžiai kviečiame visus atvykti ir kartu atšvęsti Jonines – vieną gražiausių lietuviškų švenčių!\nKUR: San Dieguito County Park – Lower Level\, Area #9Adresas: 1628 Lomas Santa Fe Dr.\, Del Mar\, CA 92014(Įvažiavimas į parką – $5/automobiliui. Už vartų automobilius galima statyti nemokamai.)\nKADA: Birželio 21 dieną\, šeštadienį\, nuo 1 p.m. iki parko uždarymo (~8 p.m.)\nAPRANGOS KODAS: Balti arba lino spalvos drabužiai\nĮEJIMO KAINA (padengti išlaidoms: parko vietos nuomai\, gėlėms\, indams\, „s’mores“ ir kt.):• $10 suaugusiems• $5 bendruomenės nariams\, prisidėjusiems solidarumo įnašu• Vaikams – nemokamai\nVaišės: Suneštinės. Prašome atsinešti savo užkandžių\, desertų bei gėrimų\, kad galėtume vaišinti vieni kitus!\nJūsų lauks:Muzika\, šokiai\, dainos\, žaidimai\, gėlių vainikų pynimas ir paparčio žiedo ieškojimas!Turėsime gėlių\, žolynų ir vielutės vainikams\, tačiau jei galite – atsineškite gėlių bei žalumynų iš savo darželių!\nPROGRAMA:\n1:00 p.m. – 1:30 p.m. Įėjimas pro Joninių vartus. Jonų\, Janinų ir Rasų registracija. Susipažinimas.1:30 p.m. – 2:30 p.m. Vainikų pynimas\, burtai\, žolelių arbatos skanavimas.2:30 p.m. Varduvininkų sveikinimai\, Joninių senosios tradicijos\, gražiausio vainikėlio apdovanojimas.3:00 p.m. – 7:00 p.m. Joninių laužo uždegimas\, San Diego lietuvių bendruomenės šokių grupės „Jūra“ pasirodymas ir šokiai\, gitaros ir kanklių muzika. Vaišinsimės\, dainuosime\, šoksime. Žaisime žaidimus ir rungtyniausime estafetėse.Kas grojate – atsineškite savo instrumentus!7:00 p.m. Paparčio žiedo ieškojimas ir zefyrų („marshmallows“) kepimas ant pagaliukų.\nLaukiame visų!Labai prašome paspausti „Going“\, jei planuojate dalyvauti – tai padės mums geriau pasiruošti
URL:https://vakaruvejai.com/renginys/baltos-jonines-midsummer-festival-san-diegas/
LOCATION:San Dieguito County Park\, 1628 Lomas Santa Fe Dr.\, Del Mar\, CA\, 92014
CATEGORIES:Lietuviški renginiai,San Diego
ATTACH;FMTTYPE=image/jpeg:https://vakaruvejai.com/wp-content/uploads/2025/04/491958992_10061098553908545_5283495858580647426_n.jpeg
END:VEVENT
BEGIN:VEVENT
DTSTART;TZID=America/Los_Angeles:20240622T170000
DTEND;TZID=America/Los_Angeles:20240622T220000
DTSTAMP:20260423T125947
CREATED:20240615T071824Z
LAST-MODIFIED:20240615T071824Z
UID:27081-1719075600-1719093600@vakaruvejai.com
SUMMARY:Joninės\, San Franciskas
DESCRIPTION:Šiais metais Jonines organizuoja SF lietuvių jaunimas. Šventė bus skirta visiems – jauniems\, vyresniems ir vaikams.Bendrausime\, piknikausime\, žaisime.\nBirželio 22 d.\, šeštadienis @ 5-10 pm\nOcean Beach\, San Francisco\, stairwells 15-20Tikslesnę vietą žymės Lietuvos vėliava.\nPROGRAMA:5 – 9:30 pm – bendravimas\, piknikavimas\, žaidimai.8 pm – laužo kūrimas9.30 pm – gesinam ugnį (pliažo taisyklės)\, susitvarkome po renginio10 pm – išvykimas (mašinų aikštelė dirba tik iki 10 pm)\nATSINEŠTI:žaidimų pliaže (bocci ball\, spike ball\, frisbee ir kt.)maisto piknikui ir kepimui laužo ugnyjekarštų ir šaltų gėrimųvienkartinių indų ir įrankiųsulankstomas kėdes ar kilimėlius atsisėsti ant smėlio šiltų rūbų – vakare gali būti vėjuota ir šalta\nSVARBU:Pliažo taisyklės: negalima stiklinės taros ir alkoholio.Susitvarkyti po renginio ir išsinešti visas šiukšles!\nKlausimai ir registracija:Marius Tali 650 235 6578 (SMS žinutės)
URL:https://vakaruvejai.com/renginys/jonines-san-franciskas-3/
LOCATION:Ocean Beach\, San Francisco\, stairwells 15-20
CATEGORIES:Lietuviški renginiai,San Franciskas
ATTACH;FMTTYPE=image/jpeg:https://vakaruvejai.com/wp-content/uploads/2024/06/448155569_455570010453137_7060969777102405983_n.jpeg
END:VEVENT
BEGIN:VEVENT
DTSTART;TZID=America/Los_Angeles:20240622T150000
DTEND;TZID=America/Los_Angeles:20240622T200000
DTSTAMP:20260423T125947
CREATED:20240615T072618Z
LAST-MODIFIED:20240615T072618Z
UID:27085-1719068400-1719086400@vakaruvejai.com
SUMMARY:Švęskime Jonines Los Andžele / Let's celebrate Joninės in Los Angeles
DESCRIPTION:LT \n\nArtėjant ilgiausiai metų dienai ir trumpiausiai nakčiai\, kviečiame visus Los Andželo lietuvius susiburti ir kartu paminėti Jonines!\n: šeštadienis\, birželio 22 d. : 15.00 val.: Rustic Canyon Recreation Center (601 Latimer Rd\, Santa Monica\, CA 90402) : dainos\, šokiai\, žaidimai\, vainikų pynimas : pasirūpinkite užkandžiais ir gėrimais sau ir kaimynui/-ei\n\nEN\n\nAs the year’s longest day and shortest night draw near\, we warmly invite all Lithuanians in Los Angeles to come together and celebrate Joninės!\n: Saturday\, June 22 : 3:00 pm : Rustic Canyon Recreation Center (601 Latimer Rd\, Santa Monica\, CA 90402): singing\, dancing\, games and making flower crowns: bring some snacks and drinks for yourself and to share
URL:https://vakaruvejai.com/renginys/sveskime-jonines-los-andzele-lets-celebrate-jonines-in-los-angeles/
LOCATION:rustic Canyon Recreational Park\, 601 Latimer Rd\, Santa Monica\, California\, 90402\, Jungtinės Amerikos Valstijos
CATEGORIES:Lietuviški renginiai,Los Andželas
ATTACH;FMTTYPE=image/png:https://vakaruvejai.com/wp-content/uploads/2024/06/446907839_770456835295049_1180319154222053385_n.png
END:VEVENT
BEGIN:VEVENT
DTSTART;TZID=America/Los_Angeles:20240622T130000
DTEND;TZID=America/Los_Angeles:20240622T200000
DTSTAMP:20260423T125947
CREATED:20240518T052957Z
LAST-MODIFIED:20240518T052957Z
UID:26853-1719061200-1719086400@vakaruvejai.com
SUMMARY:Baltos Joninės\, San Diego
DESCRIPTION:Mieli San Diego lietuviai\,\nNuoširdžiai kviečiame visus atvykti ir kartu atšvęsti Jonines!\nKUR: San Dieguito County Parke – Lower Level\, Area #8.\nAdresas: 1628 Lomas Santa Fe Dr. Del Mar\, CA 92014 (Įvažiavimo kaina į parką mašinai $3)\nKADA: Birželio 22 dieną\, šeštadienį nuo 1 p.m. iki parko uždarymo ~8 p.m.\nAprangos kodas: Balti arba lino spalvos rūbai\nVaišės: Suneštinės. Prašome atsinešti savo užkandžių\, desertų bei gėrimų\, kad galėtumėte pavaišinti vieni kitus!\nJūsų lauks muzika\, šokiai\, dainos\, žaidimai\, gėlių vainikų pynimas ir paparčio žiedo ieškojimas!\nTurėsime gėlių\, žolynų ir vielutės vainikams\, tačiau kas galite\, prašome atsinešti gėlių ir žalumynų iš savo darželių!\nPrograma:\n1 p.m. – 1:30 p.m. Įėjimas pro Joninių vartus. Jonų\, Janinų ir Rasų registracija. Susipažinimas.\n1:30 p.m.- 2:30 p.m. Vainikų pynimas\, burtai\, žolelių arbatos skanavimas.\n3 p.m. Varduvininkų sveikinimai – Joninių senosios tradicijos\, gražiausio vainikėlio apdovanojimas.\n3 p.m. – 7 p.m. Joninių laužo uždegimas\, iš naujo atgaivintos San Diego lietuvių bendruomenės šokių grupės “Jūra” pasirodymas ir šokiai\, akordeono ir kanklių muzika. Kas grojate\, atsineškite savo gitarą.\nVaišinsimės\, dainuosime\, šoksime ir žaisime tradicinius žaidimus kartu!\n7 p.m. Paparčio žiedo ieškojimas ir marshmallows kepimas.\nLaukiame visų! Labai prašome paspauskite “Going”\, kas planuojate dalyvauti\, kad žinotume dalyvių skaičių.
URL:https://vakaruvejai.com/renginys/baltos-jonines-san-diego/
LOCATION:San Dieguito County Park\, 1628 Lomas Santa Fe Dr.\, Del Mar\, CA\, 92014
CATEGORIES:Lietuviški renginiai,San Diego
ATTACH;FMTTYPE=image/jpeg:https://vakaruvejai.com/wp-content/uploads/2024/05/443732725_7951379914880430_7129879788937925159_n.jpeg
END:VEVENT
BEGIN:VEVENT
DTSTART;TZID=America/Los_Angeles:20230820T123000
DTEND;TZID=America/Los_Angeles:20230820T143000
DTSTAMP:20260423T125947
CREATED:20230812T011438Z
LAST-MODIFIED:20230812T011717Z
UID:25103-1692534600-1692541800@vakaruvejai.com
SUMMARY:"Žolinės" Šv. Kazimiero parapijoje\, Los Andželas
DESCRIPTION:Rugpjūčio 20 dieną (sekmadienį) po Šv. Mišių\, papietavus\, maloniai visus kviečiame klebonijos kiemelyje švęsti „Žolines” su dainomis\, šokiais\, žaidimais.\nPasivaišinsime saldumynais ir gaiviais gėrimais.
URL:https://vakaruvejai.com/renginys/zolines-sv-kazimiero-parapijoje-los-andzelas/
LOCATION:Šv. Kazimiero parapija\, 2716 St. George St.\, Los Angeles\, CA\, 90027
CATEGORIES:Lietuviški renginiai,Los Andželas
ATTACH;FMTTYPE=image/jpeg:https://vakaruvejai.com/wp-content/uploads/2023/08/unnamed.jpeg
ORGANIZER;CN="%C5%A1v. Kazimiero parapija":MAILTO:st.casimir@gmail.com
END:VEVENT
BEGIN:VEVENT
DTSTART;TZID=America/Los_Angeles:20230624T150000
DTEND;TZID=America/Los_Angeles:20230624T190000
DTSTAMP:20260423T125947
CREATED:20230616T154218Z
LAST-MODIFIED:20230616T154218Z
UID:24758-1687618800-1687633200@vakaruvejai.com
SUMMARY:Vasaros Joninių Piknikas\, Los Andželas
DESCRIPTION:LT\nKviečiame smagiai draugų ir šeimos ratelyje atšvęsti Jonines paplūdimyje\, birželio 24 dieną šeštadienį.\nPradžia 3:00 val. iki saulėlydžio. Joninių vainikų pynimas\, vaišės suneštinės\, atsineškite paplūdimio kėdes\, lauko žaidimus ir smagią nuotaiką!\n\nEN\nLets get together with friends and families to celebrate Joninės at the beach on June 24th Saturday from 3PM until sunset. There will be music\, games and some traditional Joninės activities. Please bring beach chairs\, food – as this is a potluck picnic and good mood!
URL:https://vakaruvejai.com/renginys/vasaros-joniniu-piknikas-los-andzelas/
LOCATION:Will Rogers Beach\, 15700 Pacific Coast Hwy\, Pacific Palisades\, CA\, 90272
CATEGORIES:Lietuviški renginiai,Los Andželas
ATTACH;FMTTYPE=image/jpeg:https://vakaruvejai.com/wp-content/uploads/2023/06/353469229_563168699357198_2494999109262939294_n.jpeg
END:VEVENT
BEGIN:VEVENT
DTSTART;TZID=America/Los_Angeles:20230624T140000
DTEND;TZID=America/Los_Angeles:20230625T140000
DTSTAMP:20260423T125947
CREATED:20230616T151544Z
LAST-MODIFIED:20230616T151544Z
UID:24749-1687615200-1687701600@vakaruvejai.com
SUMMARY:Joninės\, San Franciskas
DESCRIPTION:Tai šokom\, tai dainavom\, tai smagiai sutikome Jonines pernai. Apie jas dar ilgai vieni kitiems dalyviai pasakojo ir džiaugėsi sudalyvavę. Šiais metais\, tęsiant tradicijas\, mes vėl jus kviečiame į JONINES.\n    \nBirželio 24-25 d. su nakvyne palapinėse (kas norėsite).\n    \nŠeštadienį pinsime vainikus\, dainuosime\, šoksime\, kurensime laužą\, skanausime suvežtinį maistą ir smagiai bendrausime.\n    \nLaukiame visų\, kas norite prisidėti prie renginio pramogomis\, muzikiniais instrumentais ir idėjomis.\n    \nATSIVEŽTI\nMaisto ir gėrimų sau ir kitiems bendram stalui.\nGėlių ir žolynų vainikų pynimui.\nBugnelius\, barškučius\, gitaras bei kitus muzikinius instrumentus.\nŽaidimus vaikams ir suaugusiems.\nKėdes\, šaldytuvus.\n    \nBILIETAI\n$35 Zelle arba čekiu.\n$37 PayPal\ninfo@sflithuanians.com\nVaikams iki 16 m. nemokamai.\nVIETŲ SKAIČIUS RIBOTAS! Rekomenduojame bilietus įsigyti iš anksto\, nes vietoje nebus parduodami.\n    \nVIETA\nGrey Oaks Campground\, 200 Aromas Road\, Aromas\, CA\, 95004\nRekomenduojame kooperuotis\, kad kuo mažiau mašinų būtų\, nes nedidelė vieta parkuotis.\nRenginio teritorijoje negalimi šunys.\nSaugokime visais atžvilgiais teritoriją – mašinas statykime joms skirtoje vietoje\, nešiukšlinkime ir atsargiai elkimės su ugnimi.\n    \nRENGINĮ REMIA\nLietuvių Fondas ir JAV Lietuvių bendruomenė\n    \nSusitikime smagiame draugų rate atšvęsti vienos gražiausių vasaros švenčių.\n\nINFORMACIJA BUS DAR PAPILDYTA IR ATNAUJINTA
URL:https://vakaruvejai.com/renginys/jonines-san-franciskas-2/
LOCATION:Grey Oaks Campground\, 200 Aromas Road\, Aromas\, CA\, 95004
CATEGORIES:Lietuviški renginiai,San Franciskas
ATTACH;FMTTYPE=image/jpeg:https://vakaruvejai.com/wp-content/uploads/2023/06/352217369_1472168826944690_2289715009555935645_n.jpeg
END:VEVENT
BEGIN:VEVENT
DTSTART;TZID=America/Los_Angeles:20220625T140000
DTEND;TZID=America/Los_Angeles:20220626T180000
DTSTAMP:20260423T125947
CREATED:20220612T065931Z
LAST-MODIFIED:20220612T070116Z
UID:21817-1656165600-1656266400@vakaruvejai.com
SUMMARY:Joninės\, San Franciskas
DESCRIPTION:Renginio programa ir aprašymas dar bus papildyti.\n\nSusitikime smagiame draugų rate atšvęsti vienos gražiausių vasaros švenčių.\nJūsų lauks:\n– laužas\,\n– šokiai pokiai\,\n– dainos\,\n– žaidimai\,\n– tradiciniai ritualai\,\n– gėlių vainikų pynimai ir kt.\n\nBendro maisto stalai\, atsivežkite maisto sau ir kitiems pasidalinimui.\nMiegam palapinėse.\n\nPradžia: birželio 25 d. 2 pm\nPabaiga: sekmadienį\, kai atsibūsim\n\nAPMOKĖJIMAS\nKaina: $35 nuo 16 metų (registruojantis reikia nurodyti ir vaikų skaičių).\nBilietus galite įsigyti čia:\nhttps://tinyurl.com/35enpjhz\nTaip pat padaryti pavedimą: PayPal\, Venmo\, Zelle\, naudojant info@sflithuanians.com.\n\nVIETA\nwww.greyoaks.org\nAromas\, CA\nTiksli renginio vieta bus paskelbta įsigijus bilietus.\n\nRenginio teritorijoje negalima būti su šunimis.
URL:https://vakaruvejai.com/renginys/jonines-san-franciskas/
LOCATION:Grey Oaks Campground\, 200 Aromas Road\, Aromas\, CA\, 95004
CATEGORIES:Lietuviški renginiai,San Franciskas
ATTACH;FMTTYPE=image/jpeg:https://vakaruvejai.com/wp-content/uploads/2022/06/286374509_5518484478202097_1685875716291289172_n.jpg
END:VEVENT
BEGIN:VEVENT
DTSTART;TZID=America/Los_Angeles:20220625T120000
DTEND;TZID=America/Los_Angeles:20220625T180000
DTSTAMP:20260423T125947
CREATED:20220612T071338Z
LAST-MODIFIED:20220612T071338Z
UID:21822-1656158400-1656180000@vakaruvejai.com
SUMMARY:Joninės San Diege
DESCRIPTION:LT\nJoninės paplūdimyje!\nStovėjimo aikštelės gale prie 16-ojo gelbėtojų bokštelio – ieškokite lietuviškos vėliavos!\n*Vaišės suneštinės – atsineškite patiekalą bendrai pasivaišinti.\n*Atsineškite kėdes\, skėčius\, paplūdymio žaidimus ir t.t.\n\nEN \nMidsummer Eve celebration- Joninės at the beach!\nEnd of the parking lot by lifeguard tower 16 – look for the flag!\n*Potluck style- bring a dish to share.\n*Bring shade\, chairs\, beach games\, etc.
URL:https://vakaruvejai.com/renginys/jonines-san-diege/
LOCATION:Oceanside Harbor Beach / Lifeguard Tower 16
CATEGORIES:Lietuviški renginiai,San Diego
ATTACH;FMTTYPE=image/jpeg:https://vakaruvejai.com/wp-content/uploads/2022/06/286001578_10160179921123259_6487022547846676211_n.jpg
END:VEVENT
BEGIN:VEVENT
DTSTART;TZID=America/Los_Angeles:20220618T160000
DTEND;TZID=America/Los_Angeles:20220618T210000
DTSTAMP:20260423T125947
CREATED:20220612T063833Z
LAST-MODIFIED:20220617T231130Z
UID:21806-1655568000-1655586000@vakaruvejai.com
SUMMARY:JONINIŲ ŠVENTĖ\, Lake Oswego\, OR (Vieta pakeista!)
DESCRIPTION:  \n\n\n\n\n\n\n\n\n\nBrangūs bendruomenės nariai\,  \nŠiandien buvo pranešta kad Captain William Clark Park dėl potvynio yra uždarytas ir mūsų rezervacija yra atšaukta!  \nPrašom atkreipti dėmesį į išryškintus pokyčius.  \n JONINIŲ ŠVENTĖ \nBirželio 18 dieną (šeštadienį)\, Ingridos ir Lauryno namuose. Nuoširdžiai kviečiame visus\, jaunus ir dar jaunesnius\, ar tik šiaip save jaunais laikančius į nepakartojamą kasmetinę\, bet šiemet ne tradicinę Joninių šventę! \nRenginio pradžia 16 val.\, pabaiga 21 val. Atsinešti gėlių! \nAdresas: 4862 Indian Cerek Ct\, Lake Oswego\, OR 97035 \nPlanuojama šventė lauke\, apsirenkite šiltai. Pastogės lauke nėra.  \nŠventinis stalas: suneštinis. Yra grilius jeigu kas noretu pasinaudoti. \nĮėjimo mokestis:  NEMOKAMAS! Turėsite galimybę susimokėti metinį solidarumo nario mokestĮ. \nPrograma: \n– vainikų pynimas\, padainavimas\, pabendravimas.  \n  \n* * * * * \nURGENT update! \nMidsummer festival at Captain William Clark Park is being canceled due to flooding at the park. Please see highlighted updates below! \nST. JOHN’S MIDSUMMER FESTIVAL \nSt. John’s Midsummer Festival will take place on Saturday\, June 18th at Ingrida’s and Laurynas residence. \nEvent starts at 4 PM\, and ends at 9 PM. Please bring flowers! \nAddress: 4862 Indian Cerek Ct\, Lake Oswego\, OR 97035 \nPlan on to gather outside\, patio is uncovered\, please dress up warm. \nThis is a potluck event\, so please bring something to share. Laurynas has a grill if someone wants to use it for BBQ. \nEntrance fee:  FREE. It will also be a great opportunity to pay your anual memnbership dues. \nProgram includes: \nWeaving wreths\, singing midsummer fest songs\, socializing.  \n\n\n\n\n\n\n\n\n\n\n\n\n\n\n\n\n\n\n\n\n\n\n\n\n\n\n\nJei turite klausimų ar pasiūlymų\, prašome kreipkitės info@portlandlithuanians.com arba tel: (360) 904-4032 \nJAV LB Portlando Apylinkės Valdyba \n+++++++ \nIf you have any questions please feel free to contact us at info@portlandlithuanians.com or (360) 904-4032 \nLAC Portland Chapter Board
URL:https://vakaruvejai.com/renginys/joniniu-svente-washougal-wa/
LOCATION:Ingridos ir Lauryno Misevičių namai\, 4862 Indian Cerek Ct\, Lake Oswego\, OR\, 97035
CATEGORIES:Lietuviški renginiai,Portlandas
ATTACH;FMTTYPE=image/png:https://vakaruvejai.com/wp-content/uploads/2022/06/Untitled2.140124.png
END:VEVENT
BEGIN:VEVENT
DTSTART;TZID=America/Los_Angeles:20220618T150000
DTEND;TZID=America/Los_Angeles:20220618T200000
DTSTAMP:20260423T125947
CREATED:20220520T174432Z
LAST-MODIFIED:20220520T174432Z
UID:21506-1655564400-1655582400@vakaruvejai.com
SUMMARY:Švęskime Jonines Los Andžele
DESCRIPTION:Los Andželo lietuvių bendruomenės valdyba kviečia visus Los Andželo ir jo apylinkų lietuvius sutikti Jonines gamtoje. Jūsų laukia lietuviška muzika\, dainos\, žaidimai\, vainikų pynimas\, keptos dešrelės ant laužo\, naujos pažintys ir kitos linksmybės. \nRenginys nemokamas. \nPrašome atsinešti užkandžių\, vainikams pinti žalumynų ir gėlių\, rekomenduojame atsinešti patogias kėdes ir gerą nuotaiką.
URL:https://vakaruvejai.com/renginys/sveskime-jonines-los-andzele/
LOCATION:rustic Canyon Recreational Park\, 601 Latimer Rd\, Santa Monica\, California\, 90402\, Jungtinės Amerikos Valstijos
CATEGORIES:Lietuviški renginiai,Los Andželas
ATTACH;FMTTYPE=image/jpeg:https://vakaruvejai.com/wp-content/uploads/2022/05/281141219_5299101283483252_2583796712250906630_n.jpg
END:VEVENT
BEGIN:VEVENT
DTSTART;TZID=America/Los_Angeles:20210626T160000
DTEND;TZID=America/Los_Angeles:20210626T220000
DTSTAMP:20260423T125947
CREATED:20210618T185606Z
LAST-MODIFIED:20210619T061106Z
UID:16722-1624723200-1624744800@vakaruvejai.com
SUMMARY:Joninės '21\, Los Angeles
DESCRIPTION:Kada? Birželio 26 d.\, šeštadienį\, 4PM – 10PM\n\nKo tikėtis? Laužų\, burtų\, vainikų pinimo\, potluck\, lietuviškos muzikos\, dainų\, šokių\, žaidimų ir naujų pažinčių!\n\nKą atsinešti?\n Vaišių (maisto\, užkandžių\, gėrimų)\n Sulankstomas kėdutes\n Pikniko patiesalus (picnic blankets)\n LED žibintus ir švieseles (vakarui\, kai sutems)\n Vainikų pinimui – žolelių\, gėlių\, siūlų\n Atsisiųsti “Dainorėlis” išmaniąją programėlę (prieinama tik iOS: http://dainorelisapp.com/)\n Megztuką – vakare gali būti vėsu\n\nKur? Dockweiler State Beach. Paplūdimyje tarp gelbėtojų bokštelių Nr. 53-54. Ieškokite plėvesuojančios Lietuvos Trispalvės!\n\nKaip atvykti? https://www.parks.ca.gov/?page_id=617\n\nAutomobilio pastatymas? Rekomenduojame atvykti kuo anksčiau\, kad užsitikrintumėte vietą automobiliui. Automobilio stovėjimo aikštelė limituota ir savaitgalį greitai užsipildo.
URL:https://vakaruvejai.com/renginys/jonines-los-angeles/
LOCATION:Dockweiler State Beach\, 12000 Vista del Mar\, Playa del Rey\, California\, 90293
CATEGORIES:Lietuviški renginiai,Los Andželas
ATTACH;FMTTYPE=image/jpeg:https://vakaruvejai.com/wp-content/uploads/2021/06/IMG_6428-scaled.jpg
END:VEVENT
BEGIN:VEVENT
DTSTART;TZID=America/Los_Angeles:20210619T140000
DTEND;TZID=America/Los_Angeles:20210619T220000
DTSTAMP:20260423T125947
CREATED:20210617T052544Z
LAST-MODIFIED:20210617T052544Z
UID:16645-1624111200-1624140000@vakaruvejai.com
SUMMARY:Joninės\, Washington State
DESCRIPTION:LT  \nBirželio 19 dieną (šeštadienį)\, Captain William Clark Park. Nuoširdžiai kviečiame visus\, jaunus ir dar jaunesnius\, ar tik šiaip save jaunais laikančius į nepakartojamą kasmetinę Joninių šventę! \nRenginio pradžia 14 val.\, pabaiga 22 val. \nAdresas: Captain William Clark Park at the shelter\,\nAddress: 3333 Index St\, Washougal\, WA 98671 \nŠventė vyks “shelter ”. Didelė pavėsinė apsaugos ir nuo saulės\, ir nuo lietaus\, griliai bei plačios erdvės žaidimams\, vainikų pynimams ir pan. \nŠventinis stalas: suneštinis. Taip pat atsineškite sudedamų kėdžių ar patiesalų\, jei norėsite patogiai atsipūsti Columbia upės pakrantėje. \nĮėjimo mokestis: Bendruomenės Nariams NEMOKAMAS! Turėsite galimybę susimokėti metinį solidarumo nario mokestĮ. Bendruomenės Svečiams $10 per žmogų ( 18+ amžiaus) \nProgramoje: \n14:00- 15:00 Vartų statymas \n15:00-17:00 Vainikų pynimas (atsineškite gėlių/lapų/žolių vainikams pinti). Dainuosime dainas vainikus bepindamos. \n17:00-19:00 žaidimai\, kulbės metimas\, šokiai \n19:00-21:00 vainikų leidimas į vandenį\, dainų dainavimas prie vandens. \n21:00 paparčio žiedo paieškos!!! \n* * * * * \nEN \nST. JOHN’S MIDSUMMER FESTIVAL \nSt. John’s Midsummer Festival will take place on Saturday\, June 19th at Captain William Clark Park. \nEvent starts at 2 PM\, and ends at 10 PM. \nAddress: Captain William Clark Park at the shelter.\n3333 Index St\, Washougal\, WA 98671 \nShelter ( see picture below noted were we’ll be located) offers a full size overhead cover (for those hot or rainy days)\, built-in grills as well as spacious area for games and relaxation\, access to hiking trails\, access to the beaches of the Columbia river. \nThis is a potluck event\, so please bring something to share. Feel free to bring wine and beer (BYOB). Also consider bringing lawn chairs and/or blankets for your comfort when relaxing by the Columbia river. \nEntrance fee: for Community Members are FREE. It will also be a great opportunity to pay your anual memnbership dues. Community Guests -suggested $10 donation/ per person ( 18 years older and up). \nProgram includes: \n2-3 pm – building the gate \n3-5 pm- woman weaving of the wreaths (please\, bring flowers/leaves/grasses for the wreaths) \n5-7 pm- games\, singing\, dancing \n7-9pm – floating the wreaths in the river \n9-10 pm search for the blooming fern
URL:https://vakaruvejai.com/renginys/jonines-washington-state/
LOCATION:Captain William Clark Park at the shelter\, 3333 Index st.\, Washougal\, Washington\, 98671
CATEGORIES:Lietuviški renginiai,Portlandas,Seattle
ATTACH;FMTTYPE=image/jpeg:https://vakaruvejai.com/wp-content/uploads/2021/06/87BDA59D-70B2-4E2D-B4E5-BDD2CA26EAC6.jpeg
END:VEVENT
END:VCALENDAR