BEGIN:VCALENDAR
VERSION:2.0
PRODID:-//Vakarų Vėjai - ECPv6.15.3//NONSGML v1.0//EN
CALSCALE:GREGORIAN
METHOD:PUBLISH
X-WR-CALNAME:Vakarų Vėjai
X-ORIGINAL-URL:https://vakaruvejai.com
X-WR-CALDESC:Vakarų Vėjai renginiai
REFRESH-INTERVAL;VALUE=DURATION:PT1H
X-Robots-Tag:noindex
X-PUBLISHED-TTL:PT1H
BEGIN:VTIMEZONE
TZID:America/Los_Angeles
BEGIN:DAYLIGHT
TZOFFSETFROM:-0800
TZOFFSETTO:-0700
TZNAME:PDT
DTSTART:20240310T100000
END:DAYLIGHT
BEGIN:STANDARD
TZOFFSETFROM:-0700
TZOFFSETTO:-0800
TZNAME:PST
DTSTART:20241103T090000
END:STANDARD
BEGIN:DAYLIGHT
TZOFFSETFROM:-0800
TZOFFSETTO:-0700
TZNAME:PDT
DTSTART:20250309T100000
END:DAYLIGHT
BEGIN:STANDARD
TZOFFSETFROM:-0700
TZOFFSETTO:-0800
TZNAME:PST
DTSTART:20251102T090000
END:STANDARD
BEGIN:DAYLIGHT
TZOFFSETFROM:-0800
TZOFFSETTO:-0700
TZNAME:PDT
DTSTART:20260308T100000
END:DAYLIGHT
BEGIN:STANDARD
TZOFFSETFROM:-0700
TZOFFSETTO:-0800
TZNAME:PST
DTSTART:20261101T090000
END:STANDARD
END:VTIMEZONE
BEGIN:VEVENT
DTSTART;TZID=America/Los_Angeles:20260328T160000
DTEND;TZID=America/Los_Angeles:20260328T180000
DTSTAMP:20260423T125923
CREATED:20260226T044328Z
LAST-MODIFIED:20260226T044328Z
UID:30619-1774713600-1774720800@vakaruvejai.com
SUMMARY:Vido Bareikio koncertas\, San Franciskas
DESCRIPTION:Vidas Bareikis pirmą kartą koncertuos San Fransiske!Vienas populiariausių Lietuvos atlikėjų Vidas Bareikis kviečia į išskirtinį solinį koncertą istoriniame Berkeley Piano Club! Laukia energija\, emocijos ir visiems pažįstami hitai – nuo „Ežero dugne“ iki „Aš esu vėliava“ .Kada?2026 m. kovo 28 d.\, šeštadienis• 4:00 PM – Vyno valanda• 5:00 PM – Koncerto pradžia• 6:30 PM – Interviu ir Q&A su atlikėjais Kur?Berkeley Piano Club 2724 Haste St.\, Berkeley\, CA 94704 Bilietaihttps://sf-lithuanian-american-community.square.site/…• Su naryste: $40• Be narystės: $50Kainos kils po kovo 21 d. +10 USD.Kas laukia?• Mylimiausios Vido Bareikio dainos• Maestro Vytauto Kernagio kūriniai\, suteiksiantys jaukumo ir nostalgijos• Scenoje – ypatinga viešnia Indrė Bareikienė• Po koncerto – susitikimas\, klausimai\, autografai ir galimybė įsigyti knygų ar vinilų\n„Dar neteko susitikti su San Fransisko lietuviais\, apie kuriuos girdėjau labai daug gero. Bus labai smagu pasimatyti!“ – Vidas Bareikis
URL:https://vakaruvejai.com/renginys/vido-bareikio-koncertas-san-franciskas/
LOCATION:Berkeley Piano Club\, 2724 Haste St\, Berkeley\, CA\, 94704
CATEGORIES:Lietuviški renginiai,San Franciskas
ATTACH;FMTTYPE=image/jpeg:https://vakaruvejai.com/wp-content/uploads/2026/02/636760748_906079182068882_7161345954812503253_n.jpg
END:VEVENT
BEGIN:VEVENT
DTSTART;TZID=America/Los_Angeles:20260314T190000
DTEND;TZID=America/Los_Angeles:20260314T210000
DTSTAMP:20260423T125923
CREATED:20260214T033131Z
LAST-MODIFIED:20260214T033330Z
UID:30569-1773514800-1773522000@vakaruvejai.com
SUMMARY:Akustinis koncertas "Ten\, kur Nemunas teka" su Vidu Bareikiu\, Los Andželas
DESCRIPTION:Vidas Bareikis pristato koncertą Los Andžele – laukiame visų! Bilietai per Eventbrite ar prie durų.\nhttps://www.eventbrite.com/…/koncertas-ten-kur-nemunas…
URL:https://vakaruvejai.com/renginys/akustinis-koncertas-ten-kur-nemunas-teka-su-vidu-bareikiu-los-andzelas/
LOCATION:Solidarity\, 1414 Lincoln Blvd.\, Santa Monica\, CA\, 90401
CATEGORIES:Lietuviški renginiai,Los Andželas
ATTACH;FMTTYPE=image/jpeg:https://vakaruvejai.com/wp-content/uploads/2026/02/623015966_1214629344211127_6081461684781720274_n.jpg
END:VEVENT
BEGIN:VEVENT
DTSTART;TZID=America/Los_Angeles:20241123T183000
DTEND;TZID=America/Los_Angeles:20241123T203000
DTSTAMP:20260423T125923
CREATED:20241005T104514Z
LAST-MODIFIED:20241005T104514Z
UID:27671-1732386600-1732393800@vakaruvejai.com
SUMMARY:Vido Bareikio akustinis koncertas\, San Diegas
DESCRIPTION:LT\n\nVido Bareikio akustinis koncertas\nKada? Lapkričio 23 d. @ 18:30 val.Kur? San Diego Oasis\, 17170 Bernardo Center Drive\, San Diego\, CA 92128\nKviečiame visus į unikalų vakarą su vienu iš charizmatiškiausių Lietuvos atlikėjų – Vidu Bareikiu. Akustinio koncerto metu skambės nuoširdžiausios dainos\, tad jauki atmosfera ir nepamirštami įspūdžiai garantuoti!\nBilieto kaina: $50 (suaugusiems)Bilietų rezervacija:Zelle: sandiegolietuviai@gmail.com\nPrisijunkite ir praleiskite ypatingą vakarą su gera muzika bei San Diego lietuvių bendruomene!\n\nEN\n\nVidas Bareikis Acoustic Concert\nWhen? November 23rd @ 6:30 PM\nWhere? San Diego Oasis @ 17170 Bernardo Center Drive\, San Diego\, CA 92128\nWe invite you to an exclusive evening with one of Lithuania’s most charismatic performers – Vidas Bareikis. Enjoy an intimate acoustic concert filled with heartfelt songs and unforgettable moments!\nTicket price: $50 (adults)Ticket reservation:Zelle: sandiegolietuviai@gmail.com\nJoin us for a special evening of great music and a warm San Diego Lithuanian community atmosphere!
URL:https://vakaruvejai.com/renginys/vido-bareikio-akustinis-koncertas-san-diegas/
LOCATION:📍 San Diego Oasis\, 17170 Bernardo Center Drive\, San Diego\, CA\, 92128
CATEGORIES:Lietuviški renginiai,San Diego
ATTACH;FMTTYPE=image/jpeg:https://vakaruvejai.com/wp-content/uploads/2024/10/461931281_10219630408189225_35394427696582109_n.jpeg
END:VEVENT
BEGIN:VEVENT
DTSTART;TZID=America/Los_Angeles:20241109T170000
DTEND;TZID=America/Los_Angeles:20241109T200000
DTSTAMP:20260423T125923
CREATED:20241102T053000Z
LAST-MODIFIED:20241102T053000Z
UID:27833-1731171600-1731182400@vakaruvejai.com
SUMMARY:Vido Bareikio koncertas Portlande
DESCRIPTION:LT \nKviečiame lapkričio 9 dieną\, šeštadienį\, į susitikimą su režisieriumi\, aktoriumi\, pedagogu\, kompozitoriumi\, bei vokalistu\, Vidu Bareikiu\, ir praleisti neužmirstamą vakarą jo pristatytame koncerte. Laukiame visų! \nVieta ir laikas: Oregon Latvian Community Center\, 5500 SW Dosch Rd.\, Portland\, OR 97239 \n5:00 PM Suneštinė Vakarienė (Potluck) \n6:00 PM Koncertas \nBilietų kainos: \nVaikams iki 16 metų : nemokamai \nVaikams 16-18 metų : $25 \nSuaugusiems : $35 (ne bendruomenės nariams – $40) \n  \nEN \nPlease join us at a concert of Lithuanian director\, actor\, educator\, composer and singer Vidas Bareikis. \nPlace and time: \nOregon Latvian Community Center\, 5500 SW Dosch Rd.\, Portland\, OR 97239 \n5:00PM Potluck Dinner \n6:00PM Concert \nTickets: \nChildren under 16 years of age : free \nYouth 16-18  : $25 \nAdults members $35 Adult non-members- $40
URL:https://vakaruvejai.com/renginys/vido-bareikio-koncertas-portlande/
LOCATION:Oregon Latvian Community Center\, 5500 SW Dosch Rd\, Portland\, OR\, 97239
CATEGORIES:Lietuviški renginiai,Portlandas
ATTACH;FMTTYPE=image/jpeg:https://vakaruvejai.com/wp-content/uploads/2024/11/IMG_0013.jpg
END:VEVENT
END:VCALENDAR