BEGIN:VCALENDAR
VERSION:2.0
PRODID:-//Vakarų Vėjai - ECPv6.15.3//NONSGML v1.0//EN
CALSCALE:GREGORIAN
METHOD:PUBLISH
X-WR-CALNAME:Vakarų Vėjai
X-ORIGINAL-URL:https://vakaruvejai.com
X-WR-CALDESC:Vakarų Vėjai renginiai
REFRESH-INTERVAL;VALUE=DURATION:PT1H
X-Robots-Tag:noindex
X-PUBLISHED-TTL:PT1H
BEGIN:VTIMEZONE
TZID:America/Los_Angeles
BEGIN:DAYLIGHT
TZOFFSETFROM:-0800
TZOFFSETTO:-0700
TZNAME:PDT
DTSTART:20200308T100000
END:DAYLIGHT
BEGIN:STANDARD
TZOFFSETFROM:-0700
TZOFFSETTO:-0800
TZNAME:PST
DTSTART:20201101T090000
END:STANDARD
END:VTIMEZONE
BEGIN:VEVENT
DTSTART;TZID=America/Los_Angeles:20200303T183000
DTEND;TZID=America/Los_Angeles:20200303T203000
DTSTAMP:20260423T191310
CREATED:20200224T174107Z
LAST-MODIFIED:20200224T174107Z
UID:11495-1583260200-1583267400@vakaruvejai.com
SUMMARY:Kviečiame į susitikimą su Vidmantu Valiušaičiu\, San Francisco
DESCRIPTION:Brangūs tautiečiai\, \nKviečiame į Nepriklausomybės atkūrimo 30-mečio minėjimo pokalbį su Vidmantu Valiušaičiu. \nPokalbio tema: „Konkurencija dėl praeities: politikos taikiklyje – istorija”. Pokalbio kalba – lietuvių. \nVIDMANTAS VALIUŠAITIS\, Lietuvos filologas\, žurnalistas\, publicistas\, politikos ir kultūros apžvalgininkas\, redaktorius ir visuomenės veikėjas. \nDaugiau apie Vidmantą Valiušaitį sužinokite:\nhttps://www.delfi.lt/temos/vidmantas-valiusaitis \nRenginio data: Kovo 3 d. (antradienis) 18:30 val.\nRenginio vieta: 453 W San Carlos St\, San Jose\, CA 95110 (ActionSpot patalpos. Parkingas vidiniame kieme arba gatveje\, CalTrain stotele (San Jose Diridon) 8 min nuo renginio vietos)
URL:https://vakaruvejai.com/renginys/kvieciame-i-susitikima-su-vidmantu-valiusaiciu-san-francisco/
LOCATION:453 W San Carlos St\, 453 W San Carlos St\, San Jose\, CA\, 95110\, Jungtinės Amerikos Valstijos
CATEGORIES:Lietuviški renginiai,San Franciskas
ATTACH;FMTTYPE=image/jpeg:https://vakaruvejai.com/wp-content/uploads/2020/02/87761375_3077409112309658_1925701892000710656_o.jpg
END:VEVENT
END:VCALENDAR