BEGIN:VCALENDAR
VERSION:2.0
PRODID:-//Vakarų Vėjai - ECPv6.15.3//NONSGML v1.0//EN
CALSCALE:GREGORIAN
METHOD:PUBLISH
X-WR-CALNAME:Vakarų Vėjai
X-ORIGINAL-URL:https://vakaruvejai.com
X-WR-CALDESC:Vakarų Vėjai renginiai
REFRESH-INTERVAL;VALUE=DURATION:PT1H
X-Robots-Tag:noindex
X-PUBLISHED-TTL:PT1H
BEGIN:VTIMEZONE
TZID:America/Los_Angeles
BEGIN:DAYLIGHT
TZOFFSETFROM:-0800
TZOFFSETTO:-0700
TZNAME:PDT
DTSTART:20200308T100000
END:DAYLIGHT
BEGIN:STANDARD
TZOFFSETFROM:-0700
TZOFFSETTO:-0800
TZNAME:PST
DTSTART:20201101T090000
END:STANDARD
END:VTIMEZONE
BEGIN:VEVENT
DTSTART;TZID=America/Los_Angeles:20200229T100000
DTEND;TZID=America/Los_Angeles:20200229T190000
DTSTAMP:20260423T190832
CREATED:20200219T154558Z
LAST-MODIFIED:20200225T134355Z
UID:11459-1582970400-1583002800@vakaruvejai.com
SUMMARY:Vienos dienos paroda „ŪKANOS“ | Diana Zabielaitė | tapybinė grafika\, Vilnius
DESCRIPTION:Ar jau pastebėjote\, kad šiemet vasario mėnuo turės 29 dienas? Dar geriau. Ar pastebėjote\, kad ta papildoma diena yra šeštadienis? Jeigu džiaugiatės šia diena\, kuri jau tarsi ir nebe žiema\, bet dar ir ne pavasaris\, tai labai kviečiame tą mistiškąją vasario mėnesio 29 dieną į Čiurlionio namuose vyksiančią vienos dienos parodą ne mažiau mistišku pavadinimu – „Ūkanos“. \nVienos dienos ekspozicijoje – Dianos Zabielaitės tapybinės grafikos darbai\, atlikti mišria technika\,  sukurti kaip meditatyvūs vaizdai\, primenantys kosminius ūkus ir spiečius\, tarp kurių įžvelgiamos įstabiausios  gamtos formos ir mistinių būtybių siluetai. \nDailininkės akvarelės liejimo technika imituoja nepagaunamus gamtos vaizdinius ir kitus pasaulius\, matomus tarytum pro miglą\, lyg pabudus iš sapno ir jam benykstant ore dar tvyro sapno ūkas\, buvimo tarp skirtingų realybių jausmas. Pasak kūrėjos\, gamtos stebėjimas ją suartina su aplinka ir pačia savimi. Menininkė siekia tą būseną atspindėti ir pasidalinti su žiūrovu.  \nParodos pavadinimas „Ūkanos“ –  pasiskolintas iš kompozitoriaus Vidmanto Bartulio vieno kūrinio fortepijonui. Šio kompozitoriaus muzika skambės Čiurlionio namuose visą parodos eksponavimo dieną ir taip pat susies dienos parodą su vakariniu muzikiniu akcentu.    \nMuzikinis parodos „Ūkanos“ uždarymas 18.00 val. \nDalyvaus: Marius Šinkūnas (vibrafonas)\, Eugenijus Kanevičius(kontrabosas\, gitara)\, Rokas Zubovas (fortepijonas). Muzikinio vakaro pradžioje skambės Vidmanto Bartulio „Ūkanos“\, tolesnę duetų ir solo kūrinių girliandą\, sudarytą iš labai įvairios dvidešimtojo ir dvidešimt pirmojo amžių muzikos\, galima įvardinti „iš ūkanų krištolo tyloje gimstančia sinestetine spalvų metafora“. \nDiana Zabielaitė – Lietuvoje gimusi\, o nuo dešimt metų Amerikoje užaugusi menininkė šiuo metu gyvena ir kuria Brukline\, Niujorke. Ji baigė tapybos\, piešimo ir juvelyrikos studijas Kolumbijos koledže\, Čikagoje. Savo darbais menininkė tyrinėja būties akimirkas\, atskleidžia būsenas\, kurias patiria stebėdama gamtą. Dar vaikystėje išvykusi iš Lietuvos\, Diana Zabielaitė  studijų metais susidūrusi su Čiurlionio darbais\, iš karto pajuto trauką ir artimą  rezonansą. Menininkės pajaustos Čiurlionio kūrinių dimensijos susišaukia su  jos pačios menu. Dauguma šios parodos darbų sukurti Dianai viešint Lietuvoje\, jos senelių sodyboje\, kur buvimas  gamtos apsuptyje  inspiravo kūrybinius ieškojimus. \nParodos kuratorė Ona Židonytė \nDaugiau informacijos www.mkcnamai.lt
URL:https://vakaruvejai.com/renginys/vienos-dienos-paroda-ukanos-diana-zabielaite-tapybine-grafika-vilnius/
LOCATION:M.K. Čiurlionio namai\, Savičiaus g. 11\, Vilnius\, Lietuva
CATEGORIES:Lietuviški renginiai
ATTACH;FMTTYPE=image/jpeg:https://vakaruvejai.com/wp-content/uploads/2020/02/28D5DD02-D529-4C3F-B1D0-5D094F4F337A.jpeg
END:VEVENT
END:VCALENDAR