BEGIN:VCALENDAR
VERSION:2.0
PRODID:-//Vakarų Vėjai - ECPv6.15.3//NONSGML v1.0//EN
CALSCALE:GREGORIAN
METHOD:PUBLISH
X-WR-CALNAME:Vakarų Vėjai
X-ORIGINAL-URL:https://vakaruvejai.com
X-WR-CALDESC:Vakarų Vėjai renginiai
REFRESH-INTERVAL;VALUE=DURATION:PT1H
X-Robots-Tag:noindex
X-PUBLISHED-TTL:PT1H
BEGIN:VTIMEZONE
TZID:America/Los_Angeles
BEGIN:DAYLIGHT
TZOFFSETFROM:-0800
TZOFFSETTO:-0700
TZNAME:PDT
DTSTART:20210314T100000
END:DAYLIGHT
BEGIN:STANDARD
TZOFFSETFROM:-0700
TZOFFSETTO:-0800
TZNAME:PST
DTSTART:20211107T090000
END:STANDARD
END:VTIMEZONE
BEGIN:VEVENT
DTSTART;TZID=America/Los_Angeles:20210212T090000
DTEND;TZID=America/Los_Angeles:20210212T100000
DTSTAMP:20260423T163729
CREATED:20210212T031825Z
LAST-MODIFIED:20210212T032058Z
UID:15151-1613120400-1613124000@vakaruvejai.com
SUMMARY:Virtualių ekskursijų ciklas "V16 Siganatarai\, kūrę Kauną"\, Virtualus renginys
DESCRIPTION:Kviečiame į „Gražinkime Kauną” organizuojamą virtualią  ekskursiją „V16 signatarai\, kūrę Kauną”.\n\n\nPirmoji jų apie Los Andželiečiams gerai pažįstamą Mykolą Biržišką\, inteligentą\, dirbusį tarpukario metu laikinojoje sostinėje\, o po karo pasitraukusį į JAV\, gyvenusį Los Andžele ir aktyviai veikusį vietinėje lietuvių bendruomenėje.\n\n\nDaugiau informacijos ir bilietai  https://tickets.paysera.com/…/virtualiu-ekskursiju…\n\n\nKada Jau rytoj\, penktadienį\, vasario 12 d. 9 val. ryte PST.
URL:https://vakaruvejai.com/renginys/virtualiu-ekskursiju-ciklas-v16-siganatarai-kure-kauna-virtualus-renginys/
LOCATION:Virtualus renginys
CATEGORIES:Arizona,Hawaii,Lietuviški renginiai,Los Andželas,Nevada,Portlandas,San Diego,San Franciskas,Seattle,Virtualus renginys
ATTACH;FMTTYPE=image/jpeg:https://vakaruvejai.com/wp-content/uploads/2021/02/virtualiu-ekskursiju-ciklas-v16-siganatarai-kure-kauna_lt__1612556228.jpg
END:VEVENT
END:VCALENDAR