BEGIN:VCALENDAR
VERSION:2.0
PRODID:-//Vakarų Vėjai - ECPv6.15.3//NONSGML v1.0//EN
CALSCALE:GREGORIAN
METHOD:PUBLISH
X-WR-CALNAME:Vakarų Vėjai
X-ORIGINAL-URL:https://vakaruvejai.com
X-WR-CALDESC:Vakarų Vėjai renginiai
REFRESH-INTERVAL;VALUE=DURATION:PT1H
X-Robots-Tag:noindex
X-PUBLISHED-TTL:PT1H
BEGIN:VTIMEZONE
TZID:America/Los_Angeles
BEGIN:DAYLIGHT
TZOFFSETFROM:-0800
TZOFFSETTO:-0700
TZNAME:PDT
DTSTART:20250309T100000
END:DAYLIGHT
BEGIN:STANDARD
TZOFFSETFROM:-0700
TZOFFSETTO:-0800
TZNAME:PST
DTSTART:20251102T090000
END:STANDARD
END:VTIMEZONE
BEGIN:VEVENT
DTSTART;TZID=America/Los_Angeles:20251101T140000
DTEND;TZID=America/Los_Angeles:20251101T160000
DTSTAMP:20260423T173919
CREATED:20250927T064739Z
LAST-MODIFIED:20251011T033150Z
UID:29773-1762005600-1762012800@vakaruvejai.com
SUMMARY:Vėlinės Roslyn\, Sietlas\, WA
DESCRIPTION:
URL:https://vakaruvejai.com/renginys/velines-roslyn-sietlas-wa/
LOCATION:Lithuanian Cemetery Rosslyn WA\, Roslyn\, WA
CATEGORIES:Lietuviški renginiai,Seattle
ATTACH;FMTTYPE=image/webp:https://vakaruvejai.com/wp-content/uploads/2025/09/Zvakes-baznycioje-1140x570-1.webp
END:VEVENT
END:VCALENDAR