BEGIN:VCALENDAR
VERSION:2.0
PRODID:-//Vakarų Vėjai - ECPv6.15.3//NONSGML v1.0//EN
CALSCALE:GREGORIAN
METHOD:PUBLISH
X-WR-CALNAME:Vakarų Vėjai
X-ORIGINAL-URL:https://vakaruvejai.com
X-WR-CALDESC:Vakarų Vėjai renginiai
REFRESH-INTERVAL;VALUE=DURATION:PT1H
X-Robots-Tag:noindex
X-PUBLISHED-TTL:PT1H
BEGIN:VTIMEZONE
TZID:America/Los_Angeles
BEGIN:DAYLIGHT
TZOFFSETFROM:-0800
TZOFFSETTO:-0700
TZNAME:PDT
DTSTART:20240310T100000
END:DAYLIGHT
BEGIN:STANDARD
TZOFFSETFROM:-0700
TZOFFSETTO:-0800
TZNAME:PST
DTSTART:20241103T090000
END:STANDARD
END:VTIMEZONE
BEGIN:VEVENT
DTSTART;TZID=America/Los_Angeles:20240601T110000
DTEND;TZID=America/Los_Angeles:20240601T150000
DTSTAMP:20260423T174745
CREATED:20240601T080554Z
LAST-MODIFIED:20240601T080554Z
UID:27028-1717239600-1717254000@vakaruvejai.com
SUMMARY:Memorial for Vitalis Lembertas\, Los Andželas
DESCRIPTION:Vitalis J. Lembertas passed from his earthly life into the arms of Heaven on May 11\, 2024. \nRosary and Funeral Mass Saturday June 1 at 11 am\, St Casimir’s Church 2718 St George St\, Los Angeles\, CA 90027. In lieu of flowers\, please donate in his name to St Casimir’s Catholic Church and/or St. Casimir Lithuanian School at 2718 St George St\, Los Angeles\, CA 90027
URL:https://vakaruvejai.com/renginys/memorial-for-vitalis-lembertas-los-andzelas/
LOCATION:Šv. Kazimiero parapija\, 2716 St. George St.\, Los Angeles\, CA\, 90027
CATEGORIES:Los Andželas
ATTACH;FMTTYPE=image/jpeg:https://vakaruvejai.com/wp-content/uploads/2024/06/IMG_6654-scaled.jpg
END:VEVENT
END:VCALENDAR